Workbook

Sheet 分析表
A1: 人力资源管理工具
A2: 不同部门员工工龄结构自动分析工具 （三张表格，可任意设置年限，依据员工信息全自动生成）
A3: 说明：本图表模板用于统计和分析各部门的人力资源工龄结构现状。工具特点：1.根据员工基本信息表全自动生成，工作年限结构情况通过图表呈现一目了然；2.可以任意设置工作年限，而不再需要调整函数公式，只需要调整数字即可，从而解决了长期以来大家因为调整数字而需要同步调整函数公式的痛苦。使用方法：首先设置好下拉菜单各项目名称并完善员工基本信息表，详细要求见表格说明；本表格中输入部门名称即可，数据及图表为全自动生成。如果修改工作年限，只需要调整对应的起始值、终止值的数字即可，不要调整对应工龄项目名称。如果行数不够，采用下拉拖动复制方式即可设置新的函数公式，但是需要注意图表有效数据范围的变化。
B5: 起值 | C5: 0 | D5: 1 | E5: 3 | F5: 6 | G5: 10 | H5: 16
B6: 终值 | C6: 0.99 | D6: 2 | E6: 5 | F6: 9 | G6: 15 | H6: 50
A8: 序号 | B8: 部门名称 | C8: =C5&""&"-"&C6&""&"年" -> 0-0.99年 | D8: =D5&""&"-"&D6&""&"年" -> 1-2年 | E8: =E5&""&"-"&E6&""&"年" -> 3-5年 | F8: =F5&""&"-"&F6&""&"年" -> 6-9年 | G8: =G5&""&"-"&G6&""&"年" -> 10-15年 | H8: =H5&""&"-"&H6&""&"年" -> 16-50年 | I8: 人数合计 | J8: 各部门平均工龄
A9: 1 | B9: 总经办 | C9: =SUMPRODUCT((员工基本信息表!$N$5:$N$65536<=C$6)*(员工基本信息表!$N$5:$N$65536>=C$5)*(员工基本信息表!$J$5:$J$65536=$B9)*($B9<>"未名潮")*($B9<>"")) -> 0 | D9: =SUMPRODUCT((员工基本信息表!$N$5:$N$65536<=D$6)*(员工基本信息表!$N$5:$N$65536>=D$5)*(员工基本信息表!$J$5:$J$65536=$B9)*($B9<>"未名潮")*($B9<>"")) -> 0 | E9: =SUMPRODUCT((员工基本信息表!$N$5:$N$65536<=E$6)*(员工基本信息表!$N$5:$N$65536>=E$5)*(员工基本信息表!$J$5:$J$65536=$B9)*($B9<>"未名潮")*($B9<>"")) -> 3 | F9: =SUMPRODUCT((员工基本信息表!$N$5:$N$65536<=F$6)*(员工基本信息表!$N$5:$N$65536>=F$5)*(员工基本信息表!$J$5:$J$65536=$B9)*($B9<>"未名潮")*($B9<>"")) -> 1 | G9: =SUMPRODUCT((员工基本信息表!$N$5:$N$65536<=G$6)*(员工基本信息表!$N$5:$N$65536>=G$5)*(员工基本信息表!$J$5:$J$65536=$B9)*($B9<>"未名潮")*($B9<>"")) -> 1 | H9: =SUMPRODUCT((员工基本信息表!$N$5:$N$65536<=H$6)*(员工基本信息表!$N$5:$N$65536>=H$5)*(员工基本信息表!$J$5:$J$65536=$B9)*($B9<>"未名潮")*($B9<>"")) -> 1 | I9: =SUM(C9:H9) -> 6 | J9: =SUMPRODUCT((员工基本信息表!$J$5:$J$65536=$B9)*(员工基本信息表!$N$5:$N$65536))/I9 -> 8
A10: 2 | B10: 营销部 | C10: =SUMPRODUCT((员工基本信息表!$N$5:$N$65536<=C$6)*(员工基本信息表!$N$5:$N$65536>=C$5)*(员工基本信息表!$J$5:$J$65536=$B10)*($B10<>"未名潮")*($B10<>"")) -> 1 | D10: =SUMPRODUCT((员工基本信息表!$N$5:$N$65536<=D$6)*(员工基本信息表!$N$5:$N$65536>=D$5)*(员工基本信息表!$J$5:$J$65536=$B10)*($B10<>"未名潮")*($B10<>"")) -> 1 | E10: =SUMPRODUCT((员工基本信息表!$N$5:$N$65536<=E$6)*(员工基本信息表!$N$5:$N$65536>=E$5)*(员工基本信息表!$J$5:$J$65536=$B10)*($B10<>"未名潮")*($B10<>"")) -> 6 | F10: =SUMPRODUCT((员工基本信息表!$N$5:$N$65536<=F$6)*(员工基本信息表!$N$5:$N$65536>=F$5)*(员工基本信息表!$J$5:$J$65536=$B10)*($B10<>"未名潮")*($B10<>"")) -> 3 | G10: =SUMPRODUCT((员工基本信息表!$N$5:$N$65536<=G$6)*(员工基本信息表!$N$5:$N$65536>=G$5)*(员工基本信息表!$J$5:$J$65536=$B10)*($B10<>"未名潮")*($B10<>"")) -> 0 | H10: =SUMPRODUCT((员工基本信息表!$N$5:$N$65536<=H$6)*(员工基本信息表!$N$5:$N$65536>=H$5)*(员工基本信息表!$J$5:$J$65536=$B10)*($B10<>"未名潮")*($B10<>"")) -> 0 | I10: =SUM(C10:H10) -> 11 | J10: =SUMPRODUCT((员工基本信息表!$J$5:$J$65536=$B10)*(员工基本信息表!$N$5:$N$65536))/I10 -> 4.882
A11: 3 | B11: 财务部 | C11: =SUMPRODUCT((员工基本信息表!$N$5:$N$65536<=C$6)*(员工基本信息表!$N$5:$N$65536>=C$5)*(员工基本信息表!$J$5:$J$65536=$B11)*($B11<>"未名潮")*($B11<>"")) -> 2 | D11: =SUMPRODUCT((员工基本信息表!$N$5:$N$65536<=D$6)*(员工基本信息表!$N$5:$N$65536>=D$5)*(员工基本信息表!$J$5:$J$65536=$B11)*($B11<>"未名潮")*($B11<>"")) -> 0 | E11: =SUMPRODUCT((员工基本信息表!$N$5:$N$65536<=E$6)*(员工基本信息表!$N$5:$N$65536>=E$5)*(员工基本信息表!$J$5:$J$65536=$B11)*($B11<>"未名潮")*($B11<>"")) -> 5 | F11: =SUMPRODUCT((员工基本信息表!$N$5:$N$65536<=F$6)*(员工基本信息表!$N$5:$N$65536>=F$5)*(员工基本信息表!$J$5:$J$65536=$B11)*($B11<>"未名潮")*($B11<>"")) -> 0 | G11: =SUMPRODUCT((员工基本信息表!$N$5:$N$65536<=G$6)*(员工基本信息表!$N$5:$N$65536>=G$5)*(员工基本信息表!$J$5:$J$65536=$B11)*($B11<>"未名潮")*($B11<>"")) -> 1 | H11: =SUMPRODUCT((员工基本信息表!$N$5:$N$65536<=H$6)*(员工基本信息表!$N$5:$N$65536>=H$5)*(员工基本信息表!$J$5:$J$65536=$B11)*($B11<>"未名潮")*($B11<>"")) -> 0 | I11: =SUM(C11:H11) -> 8 | J11: =SUMPRODUCT((员工基本信息表!$J$5:$J$65536=$B11)*(员工基本信息表!$N$5:$N$65536))/I11 -> 4.375
A12: 4 | B12: 人资部 | C12: =SUMPRODUCT((员工基本信息表!$N$5:$N$65536<=C$6)*(员工基本信息表!$N$5:$N$65536>=C$5)*(员工基本信息表!$J$5:$J$65536=$B12)*($B12<>"未名潮")*($B12<>"")) -> 0 | D12: =SUMPRODUCT((员工基本信息表!$N$5:$N$65536<=D$6)*(员工基本信息表!$N$5:$N$65536>=D$5)*(员工基本信息表!$J$5:$J$65536=$B12)*($B12<>"未名潮")*($B12<>"")) -> 1 | E12: =SUMPRODUCT((员工基本信息表!$N$5:$N$65536<=E$6)*(员工基本信息表!$N$5:$N$65536>=E$5)*(员工基本信息表!$J$5:$J$65536=$B12)*($B12<>"未名潮")*($B12<>"")) -> 5 | F12: =SUMPRODUCT((员工基本信息表!$N$5:$N$65536<=F$6)*(员工基本信息表!$N$5:$N$65536>=F$5)*(员工基本信息表!$J$5:$J$65536=$B12)*($B12<>"未名潮")*($B12<>"")) -> 0 | G12: =SUMPRODUCT((员工基本信息表!$N$5:$N$65536<=G$6)*(员工基本信息表!$N$5:$N$65536>=G$5)*(员工基本信息表!$J$5:$J$65536=$B12)*($B12<>"未名潮")*($B12<>"")) -> 0 | H12: =SUMPRODUCT((员工基本信息表!$N$5:$N$65536<=H$6)*(员工基本信息表!$N$5:$N$65536>=H$5)*(员工基本信息表!$J$5:$J$65536=$B12)*($B12<>"未名潮")*($B12<>"")) -> 0 | I12: =SUM(C12:H12) -> 6 | J12: =SUMPRODUCT((员工基本信息表!$J$5:$J$65536=$B12)*(员工基本信息表!$N$5:$N$65536))/I12 -> 4.667
A13: 5 | B13: 客服部 | C13: =SUMPRODUCT((员工基本信息表!$N$5:$N$65536<=C$6)*(员工基本信息表!$N$5:$N$65536>=C$5)*(员工基本信息表!$J$5:$J$65536=$B13)*($B13<>"未名潮")*($B13<>"")) -> 0 | D13: =SUMPRODUCT((员工基本信息表!$N$5:$N$65536<=D$6)*(员工基本信息表!$N$5:$N$65536>=D$5)*(员工基本信息表!$J$5:$J$65536=$B13)*($B13<>"未名潮")*($B13<>"")) -> 0 | E13: =SUMPRODUCT((员工基本信息表!$N$5:$N$65536<=E$6)*(员工基本信息表!$N$5:$N$65536>=E$5)*(员工基本信息表!$J$5:$J$65536=$B13)*($B13<>"未名潮")*($B13<>"")) -> 1 | F13: =SUMPRODUCT((员工基本信息表!$N$5:$N$65536<=F$6)*(员工基本信息表!$N$5:$N$65536>=F$5)*(员工基本信息表!$J$5:$J$65536=$B13)*($B13<>"未名潮")*($B13<>"")) -> 2 | G13: =SUMPRODUCT((员工基本信息表!$N$5:$N$65536<=G$6)*(员工基本信息表!$N$5:$N$65536>=G$5)*(员工基本信息表!$J$5:$J$65536=$B13)*($B13<>"未名潮")*($B13<>"")) -> 1 | H13: =SUMPRODUCT((员工基本信息表!$N$5:$N$65536<=H$6)*(员工基本信息表!$N$5:$N$65536>=H$5)*(员工基本信息表!$J$5:$J$65536=$B13)*($B13<>"未名潮")*($B13<>"")) -> 0 | I13: =SUM(C13:H13) -> 4 | J13: =SUMPRODUCT((员工基本信息表!$J$5:$J$65536=$B13)*(员工基本信息表!$N$5:$N$65536))/I13 -> 8
A14: 6 | B14: 生产部 | C14: =SUMPRODUCT((员工基本信息表!$N$5:$N$65536<=C$6)*(员工基本信息表!$N$5:$N$65536>=C$5)*(员工基本信息表!$J$5:$J$65536=$B14)*($B14<>"未名潮")*($B14<>"")) -> 0 | D14: =SUMPRODUCT((员工基本信息表!$N$5:$N$65536<=D$6)*(员工基本信息表!$N$5:$N$65536>=D$5)*(员工基本信息表!$J$5:$J$65536=$B14)*($B14<>"未名潮")*($B14<>"")) -> 1 | E14: =SUMPRODUCT((员工基本信息表!$N$5:$N$65536<=E$6)*(员工基本信息表!$N$5:$N$65536>=E$5)*(员工基本信息表!$J$5:$J$65536=$B14)*($B14<>"未名潮")*($B14<>"")) -> 4 | F14: =SUMPRODUCT((员工基本信息表!$N$5:$N$65536<=F$6)*(员工基本信息表!$N$5:$N$65536>=F$5)*(员工基本信息表!$J$5:$J$65536=$B14)*($B14<>"未名潮")*($B14<>"")) -> 3 | G14: =SUMPRODUCT((员工基本信息表!$N$5:$N$65536<=G$6)*(员工基本信息表!$N$5:$N$65536>=G$5)*(员工基本信息表!$J$5:$J$65536=$B14)*($B14<>"未名潮")*($B14<>"")) -> 6 | H14: =SUMPRODUCT((员工基本信息表!$N$5:$N$65536<=H$6)*(员工基本信息表!$N$5:$N$65536>=H$5)*(员工基本信息表!$J$5:$J$65536=$B14)*($B14<>"未名潮")*($B14<>"")) -> 0 | I14: =SUM(C14:H14) -> 14 | J14: =SUMPRODUCT((员工基本信息表!$J$5:$J$65536=$B14)*(员工基本信息表!$N$5:$N$65536))/I14 -> 8.714
A15: 7 | B15: 研发部 | C15: =SUMPRODUCT((员工基本信息表!$N$5:$N$65536<=C$6)*(员工基本信息表!$N$5:$N$65536>=C$5)*(员工基本信息表!$J$5:$J$65536=$B15)*($B15<>"未名潮")*($B15<>"")) -> 0 | D15: =SUMPRODUCT((员工基本信息表!$N$5:$N$65536<=D$6)*(员工基本信息表!$N$5:$N$65536>=D$5)*(员工基本信息表!$J$5:$J$65536=$B15)*($B15<>"未名潮")*($B15<>"")) -> 0 | E15: =SUMPRODUCT((员工基本信息表!$N$5:$N$65536<=E$6)*(员工基本信息表!$N$5:$N$65536>=E$5)*(员工基本信息表!$J$5:$J$65536=$B15)*($B15<>"未名潮")*($B15<>"")) -> 3 | F15: =SUMPRODUCT((员工基本信息表!$N$5:$N$65536<=F$6)*(员工基本信息表!$N$5:$N$65536>=F$5)*(员工基本信息表!$J$5:$J$65536=$B15)*($B15<>"未名潮")*($B15<>"")) -> 0 | G15: =SUMPRODUCT((员工基本信息表!$N$5:$N$65536<=G$6)*(员工基本信息表!$N$5:$N$65536>=G$5)*(员工基本信息表!$J$5:$J$65536=$B15)*($B15<>"未名潮")*($B15<>"")) -> 1 | H15: =SUMPRODUCT((员工基本信息表!$N$5:$N$65536<=H$6)*(员工基本信息表!$N$5:$N$65536>=H$5)*(员工基本信息表!$J$5:$J$65536=$B15)*($B15<>"未名潮")*($B15<>"")) -> 0 | I15: =SUM(C15:H15) -> 4 | J15: =SUMPRODUCT((员工基本信息表!$J$5:$J$65536=$B15)*(员工基本信息表!$N$5:$N$65536))/I15 -> 6.5
A16: 8 | C16: =SUMPRODUCT((员工基本信息表!$N$5:$N$65536<=C$6)*(员工基本信息表!$N$5:$N$65536>=C$5)*(员工基本信息表!$J$5:$J$65536=$B16)*($B16<>"未名潮")*($B16<>"")) -> 0 | D16: =SUMPRODUCT((员工基本信息表!$N$5:$N$65536<=D$6)*(员工基本信息表!$N$5:$N$65536>=D$5)*(员工基本信息表!$J$5:$J$65536=$B16)*($B16<>"未名潮")*($B16<>"")) -> 0 | E16: =SUMPRODUCT((员工基本信息表!$N$5:$N$65536<=E$6)*(员工基本信息表!$N$5:$N$65536>=E$5)*(员工基本信息表!$J$5:$J$65536=$B16)*($B16<>"未名潮")*($B16<>"")) -> 0 | F16: =SUMPRODUCT((员工基本信息表!$N$5:$N$65536<=F$6)*(员工基本信息表!$N$5:$N$65536>=F$5)*(员工基本信息表!$J$5:$J$65536=$B16)*($B16<>"未名潮")*($B16<>"")) -> 0 | G16: =SUMPRODUCT((员工基本信息表!$N$5:$N$65536<=G$6)*(员工基本信息表!$N$5:$N$65536>=G$5)*(员工基本信息表!$J$5:$J$65536=$B16)*($B16<>"未名潮")*($B16<>"")) -> 0 | H16: =SUMPRODUCT((员工基本信息表!$N$5:$N$65536<=H$6)*(员工基本信息表!$N$5:$N$65536>=H$5)*(员工基本信息表!$J$5:$J$65536=$B16)*($B16<>"未名潮")*($B16<>"")) -> 0 | I16: =SUM(C16:H16) -> 0 | J16: =SUMPRODUCT((员工基本信息表!$J$5:$J$65536=$B16)*(员工基本信息表!$N$5:$N$65536))/I16 -> #DIV/0!
A17: 9 | C17: =SUMPRODUCT((员工基本信息表!$N$5:$N$65536<=C$6)*(员工基本信息表!$N$5:$N$65536>=C$5)*(员工基本信息表!$J$5:$J$65536=$B17)*($B17<>"未名潮")*($B17<>"")) -> 0 | D17: =SUMPRODUCT((员工基本信息表!$N$5:$N$65536<=D$6)*(员工基本信息表!$N$5:$N$65536>=D$5)*(员工基本信息表!$J$5:$J$65536=$B17)*($B17<>"未名潮")*($B17<>"")) -> 0 | E17: =SUMPRODUCT((员工基本信息表!$N$5:$N$65536<=E$6)*(员工基本信息表!$N$5:$N$65536>=E$5)*(员工基本信息表!$J$5:$J$65536=$B17)*($B17<>"未名潮")*($B17<>"")) -> 0 | F17: =SUMPRODUCT((员工基本信息表!$N$5:$N$65536<=F$6)*(员工基本信息表!$N$5:$N$65536>=F$5)*(员工基本信息表!$J$5:$J$65536=$B17)*($B17<>"未名潮")*($B17<>"")) -> 0 | G17: =SUMPRODUCT((员工基本信息表!$N$5:$N$65536<=G$6)*(员工基本信息表!$N$5:$N$65536>=G$5)*(员工基本信息表!$J$5:$J$65536=$B17)*($B17<>"未名潮")*($B17<>"")) -> 0 | H17: =SUMPRODUCT((员工基本信息表!$N$5:$N$65536<=H$6)*(员工基本信息表!$N$5:$N$65536>=H$5)*(员工基本信息表!$J$5:$J$65536=$B17)*($B17<>"未名潮")*($B17<>"")) -> 0 | I17: =SUM(C17:H17) -> 0 | J17: =SUMPRODUCT((员工基本信息表!$J$5:$J$65536=$B17)*(员工基本信息表!$N$5:$N$65536))/I17 -> #DIV/0!
A18: 10 | C18: =SUMPRODUCT((员工基本信息表!$N$5:$N$65536<=C$6)*(员工基本信息表!$N$5:$N$65536>=C$5)*(员工基本信息表!$J$5:$J$65536=$B18)*($B18<>"未名潮")*($B18<>"")) -> 0 | D18: =SUMPRODUCT((员工基本信息表!$N$5:$N$65536<=D$6)*(员工基本信息表!$N$5:$N$65536>=D$5)*(员工基本信息表!$J$5:$J$65536=$B18)*($B18<>"未名潮")*($B18<>"")) -> 0 | E18: =SUMPRODUCT((员工基本信息表!$N$5:$N$65536<=E$6)*(员工基本信息表!$N$5:$N$65536>=E$5)*(员工基本信息表!$J$5:$J$65536=$B18)*($B18<>"未名潮")*($B18<>"")) -> 0 | F18: =SUMPRODUCT((员工基本信息表!$N$5:$N$65536<=F$6)*(员工基本信息表!$N$5:$N$65536>=F$5)*(员工基本信息表!$J$5:$J$65536=$B18)*($B18<>"未名潮")*($B18<>"")) -> 0 | G18: =SUMPRODUCT((员工基本信息表!$N$5:$N$65536<=G$6)*(员工基本信息表!$N$5:$N$65536>=G$5)*(员工基本信息表!$J$5:$J$65536=$B18)*($B18<>"未名潮")*($B18<>"")) -> 0 | H18: =SUMPRODUCT((员工基本信息表!$N$5:$N$65536<=H$6)*(员工基本信息表!$N$5:$N$65536>=H$5)*(员工基本信息表!$J$5:$J$65536=$B18)*($B18<>"未名潮")*($B18<>"")) -> 0 | I18: =SUM(C18:H18) -> 0 | J18: =SUMPRODUCT((员工基本信息表!$J$5:$J$65536=$B18)*(员工基本信息表!$N$5:$N$65536))/I18 -> #DIV/0!
B19: 合计 | C19: =SUM(C9:C18) -> 3 | D19: =SUM(D9:D18) -> 3 | E19: =SUM(E9:E18) -> 27 | F19: =SUM(F9:F18) -> 9 | G19: =SUM(G9:G18) -> 10 | H19: =SUM(H9:H18) -> 1 | I19: =SUM(I9:I18) -> 53 | J19: =SUM(员工基本信息表!$N$5:$N$65536)/I19 -> 6.2830189
B20: 占比 | C20: =C19/$I$19 -> 0.056603774 | D20: =D19/$I$19 -> 0.056603774 | E20: =E19/$I$19 -> 0.50943396 | F20: =F19/$I$19 -> 0.4717 | G20: =G19/$I$19 -> 0.3019 | H20: =H19/$I$19 -> 0.03019 | I20: =I19/$I$19 -> 1
A52: 版权所有：北京未名潮管理顾问公司

Sheet 员工基本信息表
A1: 人力资源管理工具
A2: 员工基本信息表
A3: 说明：本表格为员工基本信息表，所列项目为常用的标准录入项目名称，且大部分已经设置好下拉菜单，如果需要调整，只需要在下拉菜单设置表中进行修改即可，非常灵活方便，无需在本表中修改函数公式。（表格中年龄、工作年限为自动生成，请勿填入数据）
A4: 员工编号 | B4: 姓名 | C4: 性别 | D4: 出生日期 | E4: 年龄 | F4: 籍贯 | G4: 民族 | H4: 专业 | I4: 学历 | J4: 部门 | K4: 职务 | L4: 职级 | M4: 入职日期 | N4: 工作年限 | O4: 婚否 | P4: 政治面貌
A5: 20160110 | B5: 张三 | C5: 男 | D5: 28513 | E5: =DATEDIF(D5,TODAY(),"Y") -> 40 | F5: 中国 | G5: 汉族 | H5: 人力资源 | I5: 本科 | J5: 总经办 | K5: 副总经理 | L5: 高层 | M5: 41049 | N5: =DATEDIF(M5,TODAY(),"Y") -> 6 | O5: 已婚 | P5: 党员
A6: 20160111 | B6: 李四 | C6: 男 | D6: 35939 | E6: =DATEDIF(D6,TODAY(),"Y") -> 20 | F6: 中国 | G6: 汉族 | H6: 会计 | I6: 硕士 | J6: 营销部 | K6: 办公室主任 | L6: 中层 | M6: 40654 | N6: =DATEDIF(M6,TODAY(),"Y") -> 7 | O6: 未婚 | P6: 团员
A7: 20160112 | B7: 王五 | C7: 女 | D7: 30948 | E7: =DATEDIF(D7,TODAY(),"Y") -> 34 | F7: 中国 | G7: 汉族 | H7: 人力资源 | I7: 中专及以下 | J7: 生产部 | K7: 助理 | L7: 高层 | M7: 40259 | N7: =DATEDIF(M7,TODAY(),"Y") -> 8 | O7: 未婚 | P7: 民主人士
A8: 20160113 | B8: 赵六 | C8: 男 | D8: 31069 | E8: =DATEDIF(D8,TODAY(),"Y") -> 33 | F8: 中国 | G8: 汉族 | H8: 财务 | I8: 博士及以上 | J8: 客服部 | K8: 人力资源经理 | L8: 一般人员 | M8: 41052 | N8: =DATEDIF(M8,TODAY(),"Y") -> 6 | O8: 已婚 | P8: 群众
A9: 20160114 | B9: 刘七 | C9: 男 | D9: 34113 | E9: =DATEDIF(D9,TODAY(),"Y") -> 25 | F9: 中国 | G9: 汉族 | H9: 人力资源 | I9: 本科 | J9: 财务部 | L9: 操作人员 | M9: 41783 | N9: =DATEDIF(M9,TODAY(),"Y") -> 4 | O9: 未婚 | P9: 群众
A10: 20160115 | B10: 黄小小 | C10: 女 | D10: 32773 | E10: =DATEDIF(D10,TODAY(),"Y") -> 29 | F10: 中国 | G10: 汉族 | H10: 人力资源 | I10: 本科 | J10: 总经办 | L10: 基层 | M10: 39193 | N10: =DATEDIF(M10,TODAY(),"Y") -> 11 | O10: 已婚 | P10: 群众
A11: 20160116 | B11: 何大大 | C11: 男 | D11: 33625 | E11: =DATEDIF(D11,TODAY(),"Y") -> 26 | F11: 中国 | G11: 汉族 | H11: 人力资源 | I11: 大专 | J11: 客服部 | L11: 高层 | M11: 39894 | N11: =DATEDIF(M11,TODAY(),"Y") -> 9 | O11: 已婚 | P11: 党员
A12: 20160117 | B12: 圆圆 | C12: 男 | D12: 19867 | E12: =DATEDIF(D12,TODAY(),"Y") -> 64 | F12: 中国 | G12: 汉族 | H12: 人力资源 | I12: 本科 | J12: 营销部 | L12: 一般人员 | M12: 40595 | N12: =DATEDIF(M12,TODAY(),"Y") -> 7 | O12: 已婚 | P12: 党员
A13: 20160118 | B13: 满满 | C13: 女 | D13: 26876 | E13: =DATEDIF(D13,TODAY(),"Y") -> 45 | F13: 中国 | G13: 汉族 | H13: 人力资源 | I13: 硕士 | J13: 人资部 | L13: 操作人员 | M13: 41296 | N13: =DATEDIF(M13,TODAY(),"Y") -> 5 | O13: 已婚 | P13: 民主人士
A14: 20160119 | B14: 笨笨 | C14: 女 | D14: 27061 | E14: =DATEDIF(D14,TODAY(),"Y") -> 44 | F14: 中国 | G14: 汉族 | H14: 营销 | I14: 本科 | J14: 人资部 | L14: 中层 | M14: 41997 | N14: =DATEDIF(M14,TODAY(),"Y") -> 3 | O14: 已婚 | P14: 民主人士
A15: 20160120 | B15: 员工11 | C15: 男 | D15: 27246 | E15: =DATEDIF(D15,TODAY(),"Y") -> 44 | F15: 中国 | G15: 汉族 | H15: 人力资源 | I15: 本科 | J15: 人资部 | L15: 基层 | M15: 42301 | N15: =DATEDIF(M15,TODAY(),"Y") -> 2 | O15: 已婚 | P15: 民主人士
A16: 20160121 | B16: 员工12 | C16: 女 | D16: 27431 | E16: =DATEDIF(D16,TODAY(),"Y") -> 43 | F16: 中国 | G16: 汉族 | H16: 人力资源 | I16: 本科 | J16: 生产部 | L16: 高层 | M16: 39777 | N16: =DATEDIF(M16,TODAY(),"Y") -> 9 | O16: 已婚 | P16: 民主人士
A17: 20160122 | B17: 员工13 | C17: 男 | D17: 27616 | E17: =DATEDIF(D17,TODAY(),"Y") -> 43 | F17: 中国 | G17: 汉族 | H17: 人力资源 | I17: 中专及以下 | J17: 客服部 | L17: 基层 | M17: 38682 | N17: =DATEDIF(M17,TODAY(),"Y") -> 12 | O17: 已婚 | P17: 民主人士
A18: 20160123 | B18: 员工14 | C18: 男 | D18: 33645 | E18: =DATEDIF(D18,TODAY(),"Y") -> 26 | F18: 中国 | G18: 汉族 | H18: 人力资源 | I18: 本科 | J18: 营销部 | L18: 基层 | M18: 40144 | N18: =DATEDIF(M18,TODAY(),"Y") -> 8 | O18: 已婚 | P18: 党员
A19: 20160124 | B19: 员工15 | C19: 男 | D19: 33099 | E19: =DATEDIF(D19,TODAY(),"Y") -> 28 | F19: 中国 | G19: 汉族 | H19: 人力资源 | I19: 本科 | J19: 营销部 | L19: 一般人员 | M19: 42671 | N19: =DATEDIF(M19,TODAY(),"Y") -> 1 | O19: 已婚 | P19: 群众
A20: 20160125 | B20: 员工16 | C20: 男 | D20: 33465 | E20: =DATEDIF(D20,TODAY(),"Y") -> 27 | F20: 中国 | G20: 汉族 | H20: 人力资源 | I20: 本科 | J20: 生产部 | L20: 基层 | M20: 42703 | N20: =DATEDIF(M20,TODAY(),"Y") -> 1 | O20: 已婚 | P20: 群众
... A46: 20160151 | B46: 员工42 | C46: 女 | D46: 28013 | E46: =DATEDIF(D46,TODAY(),"Y") -> 42 | F46: 中国 | G46: 汉族 | H46: 人力资源 | I46: 本科 | J46: 营销部 | L46: 中层 | M46: 41268 | N46: =DATEDIF(M46,TODAY(),"Y") -> 5 | O46: 未婚 | P46: 团员
A47: 20160152 | B47: 老炮儿 | C47: 男 | D47: 24874 | E47: =DATEDIF(D47,TODAY(),"Y") -> 50 | F47: 中国 | G47: 汉族 | H47: 人力资源 | I47: 大专 | J47: 生产部 | K47: 技术总监 | L47: 中层 | M47: 39046 | N47: =DATEDIF(M47,TODAY(),"Y") -> 11 | O47: 未婚 | P47: 团员
A48: 20160153 | B48: 员工44 | C48: 男 | D48: 21953 | E48: =DATEDIF(D48,TODAY(),"Y") -> 58 | F48: 中国 | G48: 汉族 | H48: 人力资源 | I48: 本科 | J48: 财务部 | L48: 中层 | M48: 39047 | N48: =DATEDIF(M48,TODAY(),"Y") -> 11 | O48: 未婚 | P48: 团员
A49: 20160154 | B49: 员工45 | C49: 女 | D49: 20493 | E49: =DATEDIF(D49,TODAY(),"Y") -> 62 | F49: 中国 | G49: 汉族 | H49: 人力资源 | I49: 本科 | J49: 研发部 | L49: 中层 | M49: 39048 | N49: =DATEDIF(M49,TODAY(),"Y") -> 11 | O49: 未婚 | P49: 团员
A50: 20160155 | B50: 员工46 | C50: 男 | D50: 21225 | E50: =DATEDIF(D50,TODAY(),"Y") -> 60 | F50: 中国 | G50: 汉族 | H50: 人力资源 | I50: 本科 | J50: 生产部 | L50: 一般人员 | M50: 39049 | N50: =DATEDIF(M50,TODAY(),"Y") -> 11 | O50: 未婚 | P50: 团员
A51: 20160156 | B51: 员工47 | C51: 女 | D51: 24878 | E51: =DATEDIF(D51,TODAY(),"Y") -> 50 | F51: 中国 | G51: 汉族 | H51: 人力资源 | I51: 硕士 | J51: 生产部 | L51: 一般人员 | M51: 39050 | N51: =DATEDIF(M51,TODAY(),"Y") -> 11 | O51: 未婚 | P51: 团员
A52: 20160157 | B52: 员工48 | C52: 男 | D52: 24879 | E52: =DATEDIF(D52,TODAY(),"Y") -> 50 | F52: 中国 | G52: 汉族 | H52: 人力资源 | I52: 硕士 | J52: 生产部 | L52: 一般人员 | M52: 39051 | N52: =DATEDIF(M52,TODAY(),"Y") -> 11 | O52: 未婚 | P52: 团员
A53: 20160158 | B53: 员工49 | C53: 女 | D53: 28171 | E53: =DATEDIF(D53,TODAY(),"Y") -> 41 | F53: 中国 | G53: 汉族 | H53: 人力资源 | I53: 硕士 | J53: 生产部 | L53: 操作人员 | M53: 37954 | N53: =DATEDIF(M53,TODAY(),"Y") -> 14 | O53: 未婚 | P53: 团员
A54: 20160159 | B54: 员工50 | C54: 男 | D54: 28356 | E54: =DATEDIF(D54,TODAY(),"Y") -> 41 | F54: 中国 | G54: 汉族 | H54: 人力资源 | I54: 中专及以下 | J54: 生产部 | L54: 操作人员 | M54: 40147 | N54: =DATEDIF(M54,TODAY(),"Y") -> 8 | O54: 未婚 | P54: 团员
A55: 20160160 | B55: 员工51 | C55: 女 | D55: 31087 | E55: =DATEDIF(D55,TODAY(),"Y") -> 33 | F55: 中国 | G55: 汉族 | H55: 人力资源 | I55: 本科 | J55: 生产部 | L55: 操作人员 | M55: 39417 | N55: =DATEDIF(M55,TODAY(),"Y") -> 10 | O55: 已婚 | P55: 党员
A56: 20160161 | B56: 员工52 | C56: 男 | D56: 32549 | E56: =DATEDIF(D56,TODAY(),"Y") -> 29 | F56: 中国 | G56: 汉族 | H56: 人力资源 | I56: 本科 | J56: 生产部 | L56: 操作人员 | M56: 41245 | N56: =DATEDIF(M56,TODAY(),"Y") -> 5 | O56: 已婚 | P56: 党员
A57: 20160162 | B57: 员工53 | C57: 男 | D57: 21592 | E57: =DATEDIF(D57,TODAY(),"Y") -> 59 | F57: 中国 | G57: 汉族 | H57: 人力资源 | I57: 本科 | J57: 总经办 | L57: 一般人员 | M57: 37228 | N57: =DATEDIF(M57,TODAY(),"Y") -> 16 | O57: 已婚 | P57: 党员
J59: 版权所有： 北京未名潮管理顾问公司

Sheet 下拉菜单名称设置
A1: 人力资源管理工具
A2: 员工信息表自助式下拉菜单设置
A3: 说明：本表格用于设置员工信息表中的部分重要项目的下拉菜单，可以帮助信息录入者避免重复的录入并节约大量的时间。使用方法：在填写员工信息表之前，请先在本表中填入以下项目所对应的标准分类名称，信息表中对应项目的下拉菜单为自动生成。而且所列项目分类名称可以任意修改、添加，设置自己所需要的名称。
A4: 性别 | B4: 籍贯 | C4: 民族 | D4: 专业 | E4: 学历 | F4: 部门 | G4: 职级 | H4: 婚否 | I4: 政治面貌
A5: 男 | B5: 中国 | C5: 汉族 | D5: 翻译 | E5: 中专及以下 | F5: 总经办 | G5: 高层 | H5: 已婚 | I5: 党员
A6: 女 | B6: 德国 | C6: 哈萨克族 | D6: 行政 | E6: 大专 | F6: 营销部 | G6: 中层 | H6: 未婚 | I6: 团员
B7: 美国 | C7: 维吾尔族 | D7: 工商管理 | E7: 本科 | F7: 财务部 | G7: 基层 | I7: 民主人士
B8: 英国 | C8: 苗族 | D8: 人力资源 | E8: 硕士 | F8: 人资部 | G8: 一般人员 | I8: 群众
C9: 白族 | D9: 外语 | E9: 博士及以上 | F9: 客服部 | G9: 操作人员
D10: 营销 | F10: 生产部 | G10: 其他
D11: 财务 | F11: 研发部
D12: 会计
