Workbook

Sheet 主页
C2: 当前日期 | F2: =TODAY() -> 44350 | J2: 性别结构
J3: 性别 | K3: 人数 | L3: 占比
C4: 本月在册总人数 | F4: =F5+F6 -> 30 | J4: 男 | K4: =COUNTIF(员工花名册!D:D,"男") -> 21 | L4: =K4/K6 -> 0.7
C5: 当前在职总人数 | F5: =COUNTIF(员工花名册!AF:AF,"在职") -> 29 | J5: 女 | K5: =COUNTIF(员工花名册!D:D,"女") -> 9 | L5: =K5/K6 -> 0.3
C6: 本月已离职人数 | F6: =COUNTIF(员工花名册!AF:AF,"已离职") -> 1 | J6: 合计 | K6: =SUM(K4:K5) -> 30 | L6: =SUM(L4:L5) -> 1
C7: 本月离职总人数 | F7: =SUMPRODUCT((YEAR(员工花名册!AG3:AG32)=YEAR(TODAY()))*((MONTH(员工花名册!AG3:AG32)=MONTH(TODAY())))) -> 4
C8: 月末在职总人数 | F8: =F4-F7 -> 26
C9: 政治面貌结构 | J9: 婚姻状况结构
C10: 政治面貌 | D10: 人数 | E10: 占比 | J10: 婚姻状况 | K10: 人数 | L10: 占比
C11: 党员 | D11: =COUNTIF(员工花名册!U:U,"党员") -> 5 | E11: =D11/D14 -> 0.6667 | J11: 已婚 | K11: =COUNTIF(员工花名册!P:P,"已婚") -> 13 | L11: =K11/K13 -> 0.43333333
C12: 预备党员 | D12: =COUNTIF(员工花名册!U:U,"预备党员") -> 1 | E12: =D12/D14 -> 0.033333333 | J12: 未婚 | K12: =COUNTIF(员工花名册!P:P,"未婚") -> 17 | L12: =K12/K13 -> 0.56666667
C13: 群众 | D13: =COUNTIF(员工花名册!U:U,"群众") -> 24 | E13: =D13/D14 -> 0.8 | J13: 合计 | K13: =SUM(K11:K12) -> 30 | L13: =SUM(L11:L12) -> 1
C14: 合计 | D14: =SUM(D11:D13) -> 30 | E14: =SUM(E11:E13) -> 1
C16: 工龄结构 | J16: 学历结构
C17: 工龄区间 | D17: 人数 | E17: 占比 | J17: 学历 | K17: 人数 | L17: 占比
C18: 1年以内 | D18: =COUNTIF(员工花名册!L:L,"<"&1) -> 5 | E18: =D18/D23 -> 0.6667 | J18: 博士后 | K18: =COUNTIF(员工花名册!X:X,"博士后") -> 0 | L18: =K18/K26 -> 0
C19: 1-3年 | D19: =COUNTIFS(员工花名册!$L:$L,">"&1,员工花名册!$L:$L,"<="&3) -> 20 | E19: =D19/D23 -> 0.66666667 | J19: 博士 | K19: =COUNTIF(员工花名册!X:X,"博士") -> 2 | L19: =K19/K26 -> 0.066666667
C20: 3-5年 | D20: =COUNTIFS(员工花名册!$L:$L,">"&3,员工花名册!$L:$L,"<="&5) -> 4 | E20: =D20/D23 -> 0.3333 | J20: 硕士 | K20: =COUNTIF(员工花名册!X:X,"硕士") -> 2 | L20: =K20/K26 -> 0.066666667
C21: 5-10年 | D21: =COUNTIFS(员工花名册!$L:$L,">"&5,员工花名册!$L:$L,"<="&10) -> 1 | E21: =D21/D23 -> 0.033333333 | J21: 本科 | K21: =COUNTIF(员工花名册!X:X,"本科") -> 11 | L21: =K21/K26 -> 0.36666667
C22: 10年以上 | D22: =COUNTIFS(员工花名册!$L:$L,">"&10) -> 0 | E22: =D22/D23 -> 0 | J22: 大专 | K22: =COUNTIF(员工花名册!X:X,"大专") -> 13 | L22: =K22/K26 -> 0.43333333
C23: 合计 | D23: =SUM(D18:D22) -> 30 | E23: =SUM(E18:E22) -> 1 | J23: 中专 | K23: =COUNTIF(员工花名册!X:X,"中专") -> 1 | L23: =K23/K26 -> 0.033333333
J24: 高中 | K24: =COUNTIF(员工花名册!X:X,"高中") -> 1 | L24: =K24/K26 -> 0.033333333
J25: 初中 | K25: =COUNTIF(员工花名册!X:X,"初中") -> 0 | L25: =K25/K26 -> 0
J26: 合计 | K26: =SUM(K18:K25) -> 30 | L26: =SUM(L18:L25) -> 1
C27: 年龄结构 | J27: 部门结构
C28: 年龄区间 | D28: 人数 | E28: 占比 | J28: 部门名称 | K28: 人数 | L28: 占比
C29: 25岁以下 | D29: =COUNTIF(员工花名册!$O:$O,"<="&25) -> 8 | E29: =D29/D34 -> 0.26666667 | J29: 总经办 | K29: =COUNTIF(员工花名册!E:E,"总经办") -> 3 | L29: =K29/K34 -> 0.1
C30: 15-30 | D30: =COUNTIFS(员工花名册!$O:$O,">"&25,员工花名册!$O:$O,"<="&30) -> 14 | E30: =D30/D34 -> 0.46666667 | J30: 综管部 | K30: =COUNTIF(员工花名册!E:E,"综管部") -> 4 | L30: =K30/K34 -> 0.3333
C31: 30-35 | D31: =COUNTIFS(员工花名册!$O:$O,">"&30,员工花名册!$O:$O,"<="&35) -> 2 | E31: =D31/D34 -> 0.066666667 | J31: 财务部 | K31: =COUNTIF(员工花名册!E:E,"财务部") -> 3 | L31: =K31/K34 -> 0.1
C32: 35-40 | D32: =COUNTIFS(员工花名册!$O:$O,">"&35,员工花名册!$O:$O,"<="&40) -> 2 | E32: =D32/D34 -> 0.066666667 | J32: 研发部 | K32: =COUNTIF(员工花名册!E:E,"研发部") -> 15 | L32: =K32/K34 -> 0.5
C33: 40岁以上 | D33: =COUNTIFS(员工花名册!$O:$O,">"&40) -> 4 | E33: =D33/D34 -> 0.3333 | J33: 营销部 | K33: =COUNTIF(员工花名册!E:E,"营销部") -> 5 | L33: =K33/K34 -> 0.6667
C34: 合计 | D34: =SUM(D29:D33) -> 30 | E34: =SUM(E29:E33) -> 1 | J34: 合计 | K34: =SUM(K29:K33) -> 30 | L34: =SUM(L29:L33) -> 1

Sheet 员工花名册
A1: 序号 | B1: 工号 | C1: 姓名 | D1: 性别 | E1: 部门 | F1: 现职务 | G1: 入职日期 | H1: 转正日期 | I1: 合同年限 | J1: 合同到期日 | K1: 合同到期天数提醒 | L1: 工龄（年） | M1: 身份证号 | N1: 生日 | O1: 年龄 | P1: 婚姻状况 | Q1: 籍贯 | R1: 户籍详细地址 | S1: 现住址 | T1: 民族 | U1: 政治面貌 | V1: 职称 | W1: 职称/资格证书 | X1: 学历 | Y1: 毕业院校 | Z1: 专业 | AA1: 外语 | AB1: 外语水平 | AC1: 联系电话 | AD1: 紧急联系人 | AE1: 紧急联系电话 | AF1: 在职状态 | AG1: 离职日期 | AH1: 离职原因 | AI1: 社保账号 | AJ1: 申购日期 | AK1: 停保日期 | AL1: 公积金账号 | AM1: 申购日期 | AN1: 封存日期 | AO1: 开户行 | AP1: 银行卡号 | AQ1: 异动记录 | AR1: 奖惩记录 | AS1: 调薪记录
A2: 手动输入 | B2: 手动输入 | C2: 手动输入 | D2: 公式自动录入 | E2: 手动输入 | F2: 手动输入 | G2: 手动输入 | H2: 手动输入 | I2: 手动输入 | J2: 公式自动录入 | K2: 公式自动录入 | L2: 公式自动录入 | M2: 手动输入 | N2: 公式自动录入 | O2: 公式自动录入 | P2: 手动输入 | Q2: 手动输入 | R2: 手动输入 | S2: 手动输入 | T2: 手动输入 | U2: 手动输入 | V2: 手动输入 | W2: 手动输入 | X2: 手动输入 | Y2: 手动输入 | Z2: 手动输入 | AA2: 手动输入 | AB2: 手动输入 | AC2: 手动输入 | AD2: 手动输入 | AE2: 手动输入 | AF2: 公式自动录入 | AG2: 手动输入 | AH2: 手动输入 | AI2: 手动输入 | AJ2: 手动输入 | AK2: 手动输入 | AL2: 手动输入 | AM2: 手动输入 | AN2: 手动输入 | AO2: 手动输入 | AP2: 手动输入 | AQ2: 手动输入 | AR2: 手动输入 | AS2: 手动输入
A3: 1 | B3: W0001 | C3: 张一一 | D3: =IF(MOD(MID(M3,17,1),2),"男","女") -> 男 | E3: 总经办 | F3: 董事长 | G3: 41760 | H3: 41852 | I3: 5 | J3: =EDATE(G3,I3*12)-1 -> 43585 | K3: =IF(TODAY()=J3,"已到期",IF(TODAY()>J3,"已过期"&TODAY()-J3&"天",IF(J3-TODAY(),"还差"&J3-TODAY()&"天到期",))) -> 已过期765天 | L3: =IF(G3="","",IF(AG3="",(TODAY()-G3)/365.25,(AG3-G3)/365.25)) -> 7.0910335 | M3: 0004270 | N3: =IF(LEN(M3)=15,MID(M3,9,2)&"月"&MID(M3,11,2)&"日",MID(M3,11,2)&"月"&MID(M3,13,2)&"日") -> 12月16日 | O3: =YEAR(TODAY())-MID(M3,7,4) -> 48 | P3: 已婚 | Q3: 广东省 | R3: 广东省深圳市南山区 | S3: 广东省深圳市南山区 | T3: 汉 | U3: 党员 | V3: 高级 | W3: 高级工程师 | X3: 硕士 | Y3: 深圳大学 | Z3: 工商管理 | AA3: 英语 | AB3: CET-4 | AC3: 12345678910 | AD3: 名字1 | AE3: 12345678940 | AF3: =IF(J3="","",IF(AG3="","在职",IF(AG3<TODAY(),"已离职","在职"))) -> 在职 | AI3: 1122333 | AJ3: 41774 | AL3: 112329 | AM3: 41774 | AO3: 工商银行 | AP3: 6000000001
A4: 2 | B4: W0002 | C4: 刘二二 | D4: =IF(MOD(MID(M4,17,1),2),"男","女") -> 女 | E4: 总经办 | F4: 董秘 | G4: 43557 | H4: 41852 | I4: 5 | J4: =EDATE(G4,I4*12)-1 -> 45383 | K4: =IF(TODAY()=J4,"已到期",IF(TODAY()>J4,"已过期"&TODAY()-J4&"天",IF(J4-TODAY(),"还差"&J4-TODAY()&"天到期",))) -> 还差1033天到期 | L4: =IF(G4="","",IF(AG4="",(TODAY()-G4)/365.25,(AG4-G4)/365.25)) -> 2.576 | M4: 0002810 | N4: =IF(LEN(M4)=15,MID(M4,9,2)&"月"&MID(M4,11,2)&"日",MID(M4,11,2)&"月"&MID(M4,13,2)&"日") -> 10月28日 | O4: =YEAR(TODAY())-MID(M4,7,4) -> 26 | P4: 已婚 | Q4: 湖南省 | R4: 湖南省长沙市岳麓区 | S4: 广东省深圳市南山区 | T4: 汉 | U4: 党员 | V4: 中级 | W4: 中级工程师 | X4: 本科 | Y4: 广州大学 | Z4: 工商企业管理 | AA4: 英语 | AB4: TEM-8 | AC4: 12345678911 | AD4: 名字2 | AE4: 12345678941 | AF4: =IF(J4="","",IF(AG4="","在职",IF(AG4<TODAY(),"已离职","在职"))) -> 在职 | AI4: 1122334 | AJ4: 43570 | AL4: 112330 | AM4: 43570 | AO4: 工商银行 | AP4: 6000000002
A5: 3 | B5: W0003 | C5: 王三三 | D5: =IF(MOD(MID(M5,17,1),2),"男","女") -> 男 | E5: 总经办 | F5: 总经理 | G5: 43094 | H5: 43191 | I5: 5 | J5: =EDATE(G5,I5*12)-1 -> 44919 | K5: =IF(TODAY()=J5,"已到期",IF(TODAY()>J5,"已过期"&TODAY()-J5&"天",IF(J5-TODAY(),"还差"&J5-TODAY()&"天到期",))) -> 还差569天到期 | L5: =IF(G5="","",IF(AG5="",(TODAY()-G5)/365.25,(AG5-G5)/365.25)) -> 3.4387406 | M5: 0001020 | N5: =IF(LEN(M5)=15,MID(M5,9,2)&"月"&MID(M5,11,2)&"日",MID(M5,11,2)&"月"&MID(M5,13,2)&"日") -> 07月02日 | O5: =YEAR(TODAY())-MID(M5,7,4) -> 45 | P5: 已婚 | Q5: 湖北省 | R5: 湖北省武汉市汉口区 | S5: 广东省深圳市南山区 | T5: 汉 | U5: 党员 | V5: 中级 | W5: 中级工程师 | X5: 博士 | Y5: 湖南理工大学 | Z5: 微电子学与固体电子学 | AA5: 英语 | AB5: CET-6 | AC5: 12345678912 | AD5: 名字3 | AE5: 12345678942 | AF5: =IF(J5="","",IF(AG5="","在职",IF(AG5<TODAY(),"已离职","在职"))) -> 在职 | AI5: 1122335 | AJ5: 43115 | AL5: 112331 | AM5: 43115 | AO5: 工商银行 | AP5: 6000000003 | AS5: 1、2018/8/1，岗位晋升，薪资上调1000元； 2、2019/5/1，岗位异动，薪资上调2000元；
A6: 4 | B6: W0004 | C6: 周四四 | D6: =IF(MOD(MID(M6,17,1),2),"男","女") -> 男 | E6: 财务部 | F6: 财务总监 | G6: 43094 | H6: 43191 | I6: 5 | J6: =EDATE(G6,I6*12)-1 -> 44919 | K6: =IF(TODAY()=J6,"已到期",IF(TODAY()>J6,"已过期"&TODAY()-J6&"天",IF(J6-TODAY(),"还差"&J6-TODAY()&"天到期",))) -> 还差569天到期 | L6: =IF(G6="","",IF(AG6="",(TODAY()-G6)/365.25,(AG6-G6)/365.25)) -> 3.4387406 | M6: 0004270 | N6: =IF(LEN(M6)=15,MID(M6,9,2)&"月"&MID(M6,11,2)&"日",MID(M6,11,2)&"月"&MID(M6,13,2)&"日") -> 09月09日 | O6: =YEAR(TODAY())-MID(M6,7,4) -> 48 | P6: 已婚 | Q6: 江西省 | R6: 江西省南昌市高新区 | S6: 广东省深圳市南山区 | T6: 汉 | U6: 党员 | V6: 中级 | W6: 经济师财务管理 | X6: 博士 | Y6: 北京大学 | Z6: 农业经济管理 | AA6: 英语 | AB6: CET-6 | AC6: 12345678913 | AD6: 名字4 | AE6: 12345678943 | AF6: =IF(J6="","",IF(AG6="","在职",IF(AG6<TODAY(),"已离职","在职"))) -> 在职 | AI6: 1122336 | AJ6: 43115 | AL6: 112332 | AM6: 43115 | AO6: 工商银行 | AP6: 6000000004
A7: 5 | B7: W0005 | C7: 赵五五 | D7: =IF(MOD(MID(M7,17,1),2),"男","女") -> 男 | E7: 综管部 | F7: 行政总监 | G7: 43094 | H7: 43191 | I7: 5 | J7: =EDATE(G7,I7*12)-1 -> 44919 | K7: =IF(TODAY()=J7,"已到期",IF(TODAY()>J7,"已过期"&TODAY()-J7&"天",IF(J7-TODAY(),"还差"&J7-TODAY()&"天到期",))) -> 还差569天到期 | L7: =IF(G7="","",IF(AG7="",(TODAY()-G7)/365.25,(AG7-G7)/365.25)) -> 3.4387406 | M7: 0001060 | N7: =IF(LEN(M7)=15,MID(M7,9,2)&"月"&MID(M7,11,2)&"日",MID(M7,11,2)&"月"&MID(M7,13,2)&"日") -> 08月01日 | O7: =YEAR(TODAY())-MID(M7,7,4) -> 44 | P7: 已婚 | Q7: 江西省 | R7: 江西省上饶市余干县 | S7: 广东省深圳市南山区 | T7: 汉 | U7: 群众 | V7: 中级 | W7: 经济师行政管理 | X7: 硕士 | Y7: 清华大学 | Z7: 法律 | AA7: 英语 | AB7: CET-6 | AC7: 12345678914 | AD7: 名字5 | AE7: 12345678944 | AF7: =IF(J7="","",IF(AG7="","在职",IF(AG7<TODAY(),"已离职","在职"))) -> 在职 | AI7: 1122337 | AJ7: 43115 | AL7: 112333 | AM7: 43115 | AO7: 工商银行 | AP7: 6000000005 | AQ7: 1、2020/3/1岗位由行政经理晋升为行政总监； 2、2018/7/1岗位由行政专员晋升为行政经理；
A8: 6 | B8: W0006 | C8: 陈六六 | D8: =IF(MOD(MID(M8,17,1),2),"男","女") -> 男 | E8: 营销部 | F8: 营销总监 | G8: 43094 | H8: 43191 | I8: 5 | J8: =EDATE(G8,I8*12)-1 -> 44919 | K8: =IF(TODAY()=J8,"已到期",IF(TODAY()>J8,"已过期"&TODAY()-J8&"天",IF(J8-TODAY(),"还差"&J8-TODAY()&"天到期",))) -> 还差569天到期 | L8: =IF(G8="","",IF(AG8="",(TODAY()-G8)/365.25,(AG8-G8)/365.25)) -> 3.4387406 | M8: 0004270 | N8: =IF(LEN(M8)=15,MID(M8,9,2)&"月"&MID(M8,11,2)&"日",MID(M8,11,2)&"月"&MID(M8,13,2)&"日") -> 08月10日 | O8: =YEAR(TODAY())-MID(M8,7,4) -> 37 | P8: 已婚 | Q8: 湖南省 | R8: 湖南省常德市安乡县 | S8: 广东省深圳市宝安区 | T8: 汉 | U8: 预备党员 | V8: 无 | X8: 本科 | Y8: 广西大学 | Z8: 法学 | AA8: 英语 | AB8: CET-4 | AC8: 12345678915 | AD8: 名字6 | AE8: 12345678945 | AF8: =IF(J8="","",IF(AG8="","在职",IF(AG8<TODAY(),"已离职","在职"))) -> 在职 | AI8: 1122338 | AJ8: 43115 | AL8: 112334 | AM8: 43115 | AO8: 工商银行 | AP8: 6000000006
A9: 7 | B9: W0007 | C9: 方七七 | D9: =IF(MOD(MID(M9,17,1),2),"男","女") -> 女 | E9: 综管部 | F9: 行政经理 | G9: 43601 | H9: 43692 | I9: 3 | J9: =EDATE(G9,I9*12)-1 -> 44696 | K9: =IF(TODAY()=J9,"已到期",IF(TODAY()>J9,"已过期"&TODAY()-J9&"天",IF(J9-TODAY(),"还差"&J9-TODAY()&"天到期",))) -> 还差346天到期 | L9: =IF(G9="","",IF(AG9="",(TODAY()-G9)/365.25,(AG9-G9)/365.25)) -> 2.0506502 | M9: 0008810 | N9: =IF(LEN(M9)=15,MID(M9,9,2)&"月"&MID(M9,11,2)&"日",MID(M9,11,2)&"月"&MID(M9,13,2)&"日") -> 03月26日 | O9: =YEAR(TODAY())-MID(M9,7,4) -> 29 | P9: 未婚 | Q9: 广东省 | R9: 广东省惠州市惠东县 | S9: 广东省深圳市宝安区 | T9: 汉 | U9: 群众 | V9: 无 | X9: 本科 | Y9: 广西民族大学 | Z9: 工商企业管理 | AA9: 英语 | AB9: CET-6 | AC9: 12345678916 | AD9: 名字7 | AE9: 12345678946 | AF9: =IF(J9="","",IF(AG9="","在职",IF(AG9<TODAY(),"已离职","在职"))) -> 在职 | AI9: 1122339 | AJ9: 43615 | AL9: 112335 | AM9: 43615 | AO9: 工商银行 | AP9: 6000000007
A10: 8 | B10: W0008 | C10: 秦八八 | D10: =IF(MOD(MID(M10,17,1),2),"男","女") -> 女 | E10: 综管部 | F10: 人事专员 | G10: 44011 | H10: 44105 | I10: 3 | J10: =EDATE(G10,I10*12)-1 -> 45105 | K10: =IF(TODAY()=J10,"已到期",IF(TODAY()>J10,"已过期"&TODAY()-J10&"天",IF(J10-TODAY(),"还差"&J10-TODAY()&"天到期",))) -> 还差755天到期 | L10: =IF(G10="","",IF(AG10="",(TODAY()-G10)/365.25,(AG10-G10)/365.25)) -> 0.9282 | M10: 0000640 | N10: =IF(LEN(M10)=15,MID(M10,9,2)&"月"&MID(M10,11,2)&"日",MID(M10,11,2)&"月"&MID(M10,13,2)&"日") -> 07月21日 | O10: =YEAR(TODAY())-MID(M10,7,4) -> 22 | P10: 未婚 | Q10: 广东省 | R10: 广东省中山市顺德市 | S10: 广东省深圳市宝安区 | T10: 汉 | U10: 群众 | V10: 无 | W10: 人力资源管理师 | X10: 大专 | Y10: 山东理工大学 | Z10: 国际贸易 | AA10: 英语 | AB10: CET-4 | AC10: 12345678917 | AD10: 名字8 | AE10: 12345678947 | AF10: =IF(J10="","",IF(AG10="","在职",IF(AG10<TODAY(),"已离职","在职"))) -> 在职 | AI10: 1122340 | AJ10: 44027 | AL10: 112336 | AM10: 44027 | AO10: 工商银行 | AP10: 6000000008
A11: 9 | B11: W0009 | C11: 唐九九 | D11: =IF(MOD(MID(M11,17,1),2),"男","女") -> 女 | E11: 综管部 | F11: 行政专员 | G11: 44013 | H11: 44105 | I11: 3 | J11: =EDATE(G11,I11*12)-1 -> 45107 | K11: =IF(TODAY()=J11,"已到期",IF(TODAY()>J11,"已过期"&TODAY()-J11&"天",IF(J11-TODAY(),"还差"&J11-TODAY()&"天到期",))) -> 还差757天到期 | L11: =IF(G11="","",IF(AG11="",(TODAY()-G11)/365.25,(AG11-G11)/365.25)) -> 0.92265572 | M11: 0024720 | N11: =IF(LEN(M11)=15,MID(M11,9,2)&"月"&MID(M11,11,2)&"日",MID(M11,11,2)&"月"&MID(M11,13,2)&"日") -> 08月12日 | O11: =YEAR(TODAY())-MID(M11,7,4) -> 24 | P11: 未婚 | Q11: 广西省 | R11: 广西南宁市西乡塘区 | S11: 广东省深圳市宝安区 | T11: 汉 | U11: 群众 | V11: 无 | X11: 大专 | Y11: 厦门大学 | Z11: 物流管理 | AA11: 英语 | AB11: CET-4 | AC11: 12345678918 | AD11: 名字9 | AE11: 12345678948 | AF11: =IF(J11="","",IF(AG11="","在职",IF(AG11<TODAY(),"已离职","在职"))) -> 在职 | AI11: 1122341 | AJ11: 44027 | AL11: 112337 | AM11: 44027 | AO11: 工商银行 | AP11: 6000000009 | AQ11: 1、2021/3/1由营销部销售经理岗位异动为综管部行政专员
A12: 10 | B12: W0010 | C12: 萧一十 | D12: =IF(MOD(MID(M12,17,1),2),"男","女") -> 男 | E12: 财务部 | F12: 财务经理 | G12: 43317 | H12: 43405 | I12: 3 | J12: =EDATE(G12,I12*12)-1 -> 44412 | K12: =IF(TODAY()=J12,"已到期",IF(TODAY()>J12,"已过期"&TODAY()-J12&"天",IF(J12-TODAY(),"还差"&J12-TODAY()&"天到期",))) -> 还差62天到期 | L12: =IF(G12="","",IF(AG12="",(TODAY()-G12)/365.25,(AG12-G12)/365.25)) -> 2.828 | M12: 0005130 | N12: =IF(LEN(M12)=15,MID(M12,9,2)&"月"&MID(M12,11,2)&"日",MID(M12,11,2)&"月"&MID(M12,13,2)&"日") -> 10月26日 | O12: =YEAR(TODAY())-MID(M12,7,4) -> 37 | P12: 已婚 | Q12: 四川省 | R12: 四川省成都市锦江区 | S12: 广东省深圳市宝安区 | T12: 汉 | U12: 群众 | V12: 中级 | W12: 注册会计师 | X12: 本科 | Y12: 四川大学 | Z12: 软件技术 | AA12: 英语 | AB12: CET-4 | AC12: 12345678919 | AD12: 名字10 | AE12: 12345678949 | AF12: =IF(J12="","",IF(AG12="","在职",IF(AG12<TODAY(),"已离职","在职"))) -> 在职 | AI12: 1122342 | AJ12: 43327 | AL12: 112338 | AM12: 43327 | AO12: 工商银行 | AP12: 6000000010
A13: 11 | B13: W0011 | C13: 朱十一 | D13: =IF(MOD(MID(M13,17,1),2),"男","女") -> 女 | E13: 财务部 | F13: 会计 | G13: 43255 | H13: 43344 | I13: 3 | J13: =EDATE(G13,I13*12)-1 -> 44350 | K13: =IF(TODAY()=J13,"已到期",IF(TODAY()>J13,"已过期"&TODAY()-J13&"天",IF(J13-TODAY(),"还差"&J13-TODAY()&"天到期",))) -> 已到期 | L13: =IF(G13="","",IF(AG13="",(TODAY()-G13)/365.25,(AG13-G13)/365.25)) -> 2.9952088 | M13: 0024240 | N13: =IF(LEN(M13)=15,MID(M13,9,2)&"月"&MID(M13,11,2)&"日",MID(M13,11,2)&"月"&MID(M13,13,2)&"日") -> 07月28日 | O13: =YEAR(TODAY())-MID(M13,7,4) -> 32 | P13: 已婚 | Q13: 四川省 | R13: 四川省成都市武侯区 | S13: 广东省深圳市宝安区 | T13: 汉 | U13: 群众 | V13: 初级 | W13: 注册会计师 | X13: 大专 | Y13: 武汉大学 | Z13: 计算机信息管理 | AA13: 英语 | AB13: CET-4 | AC13: 12345678920 | AD13: 名字11 | AE13: 12345678950 | AF13: =IF(J13="","",IF(AG13="","在职",IF(AG13<TODAY(),"已离职","在职"))) -> 已离职 | AG13: 44349 | AH13: 个人原因 | AI13: 1122343 | AJ13: 43266 | AK13: 44362 | AL13: 112339 | AM13: 43266 | AN13: 44362 | AO13: 工商银行 | AP13: 6000000011
A14: 12 | B14: W0012 | C14: 周十二 | D14: =IF(MOD(MID(M14,17,1),2),"男","女") -> 男 | E14: 研发部 | F14: 项目经理 | G14: 43276 | H14: 43374 | I14: 3 | J14: =EDATE(G14,I14*12)-1 -> 44371 | K14: =IF(TODAY()=J14,"已到期",IF(TODAY()>J14,"已过期"&TODAY()-J14&"天",IF(J14-TODAY(),"还差"&J14-TODAY()&"天到期",))) -> 还差21天到期 | L14: =IF(G14="","",IF(AG14="",(TODAY()-G14)/365.25,(AG14-G14)/365.25)) -> 2.9404517 | M14: 0007310 | N14: =IF(LEN(M14)=15,MID(M14,9,2)&"月"&MID(M14,11,2)&"日",MID(M14,11,2)&"月"&MID(M14,13,2)&"日") -> 07月16日 | O14: =YEAR(TODAY())-MID(M14,7,4) -> 27 | P14: 未婚 | Q14: 湖南省 | R14: 湖南省长沙市天心区 | S14: 广东省深圳市福田区 | T14: 汉 | U14: 群众 | V14: 高级 | W14: 高级项目经理 | X14: 本科 | Y14: 中山大学 | Z14: 软件工程 | AA14: 英语 | AB14: CET-4 | AC14: 12345678921 | AD14: 名字12 | AE14: 12345678951 | AF14: =IF(J14="","",IF(AG14="","在职",IF(AG14<TODAY(),"已离职","在职"))) -> 在职 | AI14: 1122344 | AJ14: 43296 | AL14: 112340 | AM14: 43296 | AO14: 工商银行 | AP14: 6000000012
A15: 13 | B15: W0013 | C15: 庞十三 | D15: =IF(MOD(MID(M15,17,1),2),"男","女") -> 男 | E15: 研发部 | F15: 高级工程师 | G15: 43405 | H15: 43497 | I15: 3 | J15: =EDATE(G15,I15*12)-1 -> 44500 | K15: =IF(TODAY()=J15,"已到期",IF(TODAY()>J15,"已过期"&TODAY()-J15&"天",IF(J15-TODAY(),"还差"&J15-TODAY()&"天到期",))) -> 还差150天到期 | L15: =IF(G15="","",IF(AG15="",(TODAY()-G15)/365.25,(AG15-G15)/365.25)) -> 2.587269 | M15: 0007210 | N15: =IF(LEN(M15)=15,MID(M15,9,2)&"月"&MID(M15,11,2)&"日",MID(M15,11,2)&"月"&MID(M15,13,2)&"日") -> 11月06日 | O15: =YEAR(TODAY())-MID(M15,7,4) -> 26 | P15: 已婚 | Q15: 湖南省 | R15: 湖南省邵阳市邵东县 | S15: 广东省深圳市福田区 | T15: 汉 | U15: 群众 | V15: 中级 | W15: 中级工程师 | X15: 大专 | Y15: 中南大学 | Z15: 软件开发 | AA15: 英语 | AB15: CET-4 | AC15: 12345678922 | AD15: 名字13 | AE15: 12345678952 | AF15: =IF(J15="","",IF(AG15="","在职",IF(AG15<TODAY(),"已离职","在职"))) -> 在职 | AI15: 1122345 | AJ15: 43419 | AL15: 112341 | AM15: 43419 | AO15: 工商银行 | AP15: 6000000013
A16: 14 | B16: W0014 | C16: 方十四 | D16: =IF(MOD(MID(M16,17,1),2),"男","女") -> 男 | E16: 研发部 | F16: 高级工程师 | G16: 43646 | H16: 43739 | I16: 3 | J16: =EDATE(G16,I16*12)-1 -> 44741 | K16: =IF(TODAY()=J16,"已到期",IF(TODAY()>J16,"已过期"&TODAY()-J16&"天",IF(J16-TODAY(),"还差"&J16-TODAY()&"天到期",))) -> 还差391天到期 | L16: =IF(G16="","",IF(AG16="",(TODAY()-G16)/365.25,(AG16-G16)/365.25)) -> 1.927447 | M16: 0023300 | N16: =IF(LEN(M16)=15,MID(M16,9,2)&"月"&MID(M16,11,2)&"日",MID(M16,11,2)&"月"&MID(M16,13,2)&"日") -> 08月29日 | O16: =YEAR(TODAY())-MID(M16,7,4) -> 32 | P16: 已婚 | Q16: 广西省 | R16: 广西贵港市玉林市 | S16: 广东省深圳市福田区 | T16: 汉 | U16: 群众 | V16: 中级 | W16: 中级工程师 | X16: 本科 | Y16: 南京大学 | Z16: 电子信息工程 | AA16: 英语 | AB16: CET-4 | AC16: 12345678923 | AD16: 名字14 | AE16: 12345678953 | AF16: =IF(J16="","",IF(AG16="","在职",IF(AG16<TODAY(),"已离职","在职"))) -> 在职 | AI16: 1122346 | AJ16: 43661 | AL16: 112342 | AM16: 43661 | AO16: 工商银行 | AP16: 6000000014
A17: 15 | B17: W0015 | C17: 刘十五 | D17: =IF(MOD(MID(M17,17,1),2),"男","女") -> 男 | E17: 研发部 | F17: Java工程师 | G17: 43678 | H17: 43770 | I17: 3 | J17: =EDATE(G17,I17*12)-1 -> 44773 | K17: =IF(TODAY()=J17,"已到期",IF(TODAY()>J17,"已过期"&TODAY()-J17&"天",IF(J17-TODAY(),"还差"&J17-TODAY()&"天到期",))) -> 还差423天到期 | L17: =IF(G17="","",IF(AG17="",(TODAY()-G17)/365.25,(AG17-G17)/365.25)) -> 1.8672142 | M17: 0001030 | N17: =IF(LEN(M17)=15,MID(M17,9,2)&"月"&MID(M17,11,2)&"日",MID(M17,11,2)&"月"&MID(M17,13,2)&"日") -> 10月25日 | O17: =YEAR(TODAY())-MID(M17,7,4) -> 30 | P17: 已婚 | Q17: 山东省 | R17: 山东省济南市济宁县 | S17: 广东省深圳市福田区 | T17: 汉 | U17: 群众 | V17: 无 | X17: 本科 | Y17: 西南大学 | Z17: 艺术设计 | AA17: 英语 | AB17: CET-6 | AC17: 12345678924 | AD17: 名字15 | AE17: 12345678954 | AF17: =IF(J17="","",IF(AG17="","在职",IF(AG17<TODAY(),"已离职","在职"))) -> 在职 | AG17: 44360 | AH17: 个人原因 | AI17: 1122347 | AJ17: 43692 | AK17: 44362 | AL17: 112343 | AM17: 43692 | AN17: 44362 | AO17: 工商银行 | AP17: 6000000015 | AR17: 1、嘉奖一次：2021/3/15对部门业务运作提出合理化建议，经采纳实施，给公司带来显著经济效益
A18: 16 | B18: W0016 | C18: 任十六 | D18: =IF(MOD(MID(M18,17,1),2),"男","女") -> 女 | E18: 研发部 | F18: Java工程师 | G18: 43507 | H18: 43600 | I18: 3 | J18: =EDATE(G18,I18*12)-1 -> 44602 | K18: =IF(TODAY()=J18,"已到期",IF(TODAY()>J18,"已过期"&TODAY()-J18&"天",IF(J18-TODAY(),"还差"&J18-TODAY()&"天到期",))) -> 还差252天到期 | L18: =IF(G18="","",IF(AG18="",(TODAY()-G18)/365.25,(AG18-G18)/365.25)) -> 2.3080082 | M18: 0024250 | N18: =IF(LEN(M18)=15,MID(M18,9,2)&"月"&MID(M18,11,2)&"日",MID(M18,11,2)&"月"&MID(M18,13,2)&"日") -> 06月19日 | O18: =YEAR(TODAY())-MID(M18,7,4) -> 28 | P18: 已婚 | Q18: 福建省 | R18: 福建省三明市泰宁县 | S18: 广东省深圳市福田区 | T18: 汉 | U18: 群众 | V18: 无 | X18: 大专 | Y18: 电子科技大学 | Z18: 软件技术 | AA18: 英语 | AB18: CET-4 | AC18: 12345678925 | AD18: 名字16 | AE18: 12345678955 | AF18: =IF(J18="","",IF(AG18="","在职",IF(AG18<TODAY(),"已离职","在职"))) -> 在职 | AI18: 1122348 | AJ18: 43511 | AL18: 112344 | AM18: 43511 | AO18: 工商银行 | AP18: 6000000016
A19: 17 | B19: W0017 | C19: 张十七 | D19: =IF(MOD(MID(M19,17,1),2),"男","女") -> 男 | E19: 研发部 | F19: Java工程师 | G19: 43507 | H19: 43600 | I19: 3 | J19: =EDATE(G19,I19*12)-1 -> 44602 | K19: =IF(TODAY()=J19,"已到期",IF(TODAY()>J19,"已过期"&TODAY()-J19&"天",IF(J19-TODAY(),"还差"&J19-TODAY()&"天到期",))) -> 还差252天到期 | L19: =IF(G19="","",IF(AG19="",(TODAY()-G19)/365.25,(AG19-G19)/365.25)) -> 2.3080082 | M19: 0023310 | N19: =IF(LEN(M19)=15,MID(M19,9,2)&"月"&MID(M19,11,2)&"日",MID(M19,11,2)&"月"&MID(M19,13,2)&"日") -> 09月03日 | O19: =YEAR(TODAY())-MID(M19,7,4) -> 28 | P19: 已婚 | Q19: 广东省 | R19: 广东省深圳市南山区 | S19: 广东省深圳市福田区 | T19: 汉 | U19: 群众 | V19: 无 | X19: 大专 | Y19: 浙江大学 | Z19: 软件技术 | AA19: 英语 | AB19: CET-4 | AC19: 12345678926 | AD19: 名字17 | AE19: 12345678956 | AF19: =IF(J19="","",IF(AG19="","在职",IF(AG19<TODAY(),"已离职","在职"))) -> 在职 | AI19: 1122349 | AJ19: 43511 | AL19: 112345 | AM19: 43511 | AO19: 工商银行 | AP19: 6000000017 | AS19: 1、2020/7/1，职业资格认证提升，薪资上调1000元
A20: 18 | B20: W0018 | C20: 刘十八 | D20: =IF(MOD(MID(M20,17,1),2),"男","女") -> 男 | E20: 研发部 | F20: 测试工程师 | G20: 43824 | H20: 43922 | I20: 3 | J20: =EDATE(G20,I20*12)-1 -> 44919 | K20: =IF(TODAY()=J20,"已到期",IF(TODAY()>J20,"已过期"&TODAY()-J20&"天",IF(J20-TODAY(),"还差"&J20-TODAY()&"天到期",))) -> 还差569天到期 | L20: =IF(G20="","",IF(AG20="",(TODAY()-G20)/365.25,(AG20-G20)/365.25)) -> 1.4401095 | M20: 0004273 | N20: =IF(LEN(M20)=15,MID(M20,9,2)&"月"&MID(M20,11,2)&"日",MID(M20,11,2)&"月"&MID(M20,13,2)&"日") -> 12月02日 | O20: =YEAR(TODAY())-MID(M20,7,4) -> 27 | P20: 未婚 | Q20: 湖南省 | R20: 湖南省长沙市岳麓区 | S20: 广东省深圳市龙岗区 | T20: 汉 | U20: 群众 | V20: 无 | X20: 大专 | Y20: 湖南大学 | Z20: 计算机应用 | AA20: 英语 | AB20: CET-4 | AC20: 12345678927 | AD20: 名字18 | AE20: 12345678957 | AF20: =IF(J20="","",IF(AG20="","在职",IF(AG20<TODAY(),"已离职","在职"))) -> 在职 | AI20: 1122350 | AJ20: 43845 | AL20: 112346 | AM20: 43845 | AO20: 工商银行 | AP20: 6000000018
A21: 19 | B21: W0019 | C21: 周十九 | D21: =IF(MOD(MID(M21,17,1),2),"男","女") -> 男 | E21: 研发部 | F21: 测试工程师 | G21: 43895 | H21: 43983 | I21: 3 | J21: =EDATE(G21,I21*12)-1 -> 44989 | K21: =IF(TODAY()=J21,"已到期",IF(TODAY()>J21,"已过期"&TODAY()-J21&"天",IF(J21-TODAY(),"还差"&J21-TODAY()&"天到期",))) -> 还差639天到期 | L21: =IF(G21="","",IF(AG21="",(TODAY()-G21)/365.25,(AG21-G21)/365.25)) -> 1.2457221 | M21: 0005430 | N21: =IF(LEN(M21)=15,MID(M21,9,2)&"月"&MID(M21,11,2)&"日",MID(M21,11,2)&"月"&MID(M21,13,2)&"日") -> 01月01日 | O21: =YEAR(TODAY())-MID(M21,7,4) -> 24 | P21: 未婚 | Q21: 湖北省 | R21: 湖北省武汉市汉口区 | S21: 广东省深圳市龙岗区 | T21: 汉 | U21: 群众 | V21: 无 | X21: 本科 | Y21: 天津大学 | Z21: 软件技术 | AA21: 英语 | AB21: CET-4 | AC21: 12345678928 | AD21: 名字19 | AE21: 12345678958 | AF21: =IF(J21="","",IF(AG21="","在职",IF(AG21<TODAY(),"已离职","在职"))) -> 在职 | AI21: 1122351 | AJ21: 43905 | AL21: 112347 | AM21: 43905 | AO21: 工商银行 | AP21: 6000000019
A22: 20 | B22: W0020 | C22: 路二十 | D22: =IF(MOD(MID(M22,17,1),2),"男","女") -> 女 | E22: 研发部 | F22: 测试工程师 | G22: 43895 | H22: 43983 | I22: 3 | J22: =EDATE(G22,I22*12)-1 -> 44989 | K22: =IF(TODAY()=J22,"已到期",IF(TODAY()>J22,"已过期"&TODAY()-J22&"天",IF(J22-TODAY(),"还差"&J22-TODAY()&"天到期",))) -> 还差639天到期 | L22: =IF(G22="","",IF(AG22="",(TODAY()-G22)/365.25,(AG22-G22)/365.25)) -> 1.2457221 | M22: 0023248 | N22: =IF(LEN(M22)=15,MID(M22,9,2)&"月"&MID(M22,11,2)&"日",MID(M22,11,2)&"月"&MID(M22,13,2)&"日") -> 02月25日 | O22: =YEAR(TODAY())-MID(M22,7,4) -> 23 | P22: 未婚 | Q22: 江西省 | R22: 江西省南昌市高新区 | S22: 广东省深圳市龙岗区 | T22: 壮 | U22: 群众 | V22: 无 | X22: 大专 | Y22: 南昌大学 | Z22: 软件技术 | AA22: 英语 | AB22: CET-4 | AC22: 12345678929 | AD22: 名字20 | AE22: 12345678959 | AF22: =IF(J22="","",IF(AG22="","在职",IF(AG22<TODAY(),"已离职","在职"))) -> 在职 | AI22: 1122352 | AJ22: 43905 | AL22: 112348 | AM22: 43905 | AO22: 工商银行 | AP22: 6000000020
A23: 21 | B23: W0021 | C23: 陈二一 | D23: =IF(MOD(MID(M23,17,1),2),"男","女") -> 女 | E23: 研发部 | F23: 初级工程师 | G23: 43895 | H23: 43983 | I23: 3 | J23: =EDATE(G23,I23*12)-1 -> 44989 | K23: =IF(TODAY()=J23,"已到期",IF(TODAY()>J23,"已过期"&TODAY()-J23&"天",IF(J23-TODAY(),"还差"&J23-TODAY()&"天到期",))) -> 还差639天到期 | L23: =IF(G23="","",IF(AG23="",(TODAY()-G23)/365.25,(AG23-G23)/365.25)) -> 1.2758385 | M23: 0025310 | N23: =IF(LEN(M23)=15,MID(M23,9,2)&"月"&MID(M23,11,2)&"日",MID(M23,11,2)&"月"&MID(M23,13,2)&"日") -> 06月13日 | O23: =YEAR(TODAY())-MID(M23,7,4) -> 26 | P23: 未婚 | Q23: 江西省 | R23: 江西省上饶市余干县 | S23: 广东省深圳市龙岗区 | T23: 汉 | U23: 群众 | V23: 无 | X23: 大专 | Y23: 上海交通大学 | Z23: 软件技术 | AA23: 英语 | AB23: CET-4 | AC23: 12345678930 | AD23: 名字21 | AE23: 12345678960 | AF23: =IF(J23="","",IF(AG23="","在职",IF(AG23<TODAY(),"已离职","在职"))) -> 在职 | AG23: 44361 | AH23: 个人原因 | AI23: 1122353 | AJ23: 43905 | AK23: 44362 | AL23: 112349 | AM23: 43905 | AN23: 44362 | AO23: 工商银行 | AP23: 6000000021
A24: 22 | B24: W0022 | C24: 段二二 | D24: =IF(MOD(MID(M24,17,1),2),"男","女") -> 男 | E24: 研发部 | F24: 初级工程师 | G24: 43895 | H24: 43983 | I24: 3 | J24: =EDATE(G24,I24*12)-1 -> 44989 | K24: =IF(TODAY()=J24,"已到期",IF(TODAY()>J24,"已过期"&TODAY()-J24&"天",IF(J24-TODAY(),"还差"&J24-TODAY()&"天到期",))) -> 还差639天到期 | L24: =IF(G24="","",IF(AG24="",(TODAY()-G24)/365.25,(AG24-G24)/365.25)) -> 1.2457221 | M24: 0024300 | N24: =IF(LEN(M24)=15,MID(M24,9,2)&"月"&MID(M24,11,2)&"日",MID(M24,11,2)&"月"&MID(M24,13,2)&"日") -> 06月07日 | O24: =YEAR(TODAY())-MID(M24,7,4) -> 27 | P24: 未婚 | Q24: 湖南省 | R24: 湖南省常德市安乡县 | S24: 广东省深圳市龙岗区 | T24: 汉 | U24: 群众 | V24: 无 | X24: 本科 | Y24: 郑州大学 | Z24: 软件技术 | AA24: 英语 | AB24: CET-4 | AC24: 12345678931 | AD24: 名字22 | AE24: 12345678961 | AF24: =IF(J24="","",IF(AG24="","在职",IF(AG24<TODAY(),"已离职","在职"))) -> 在职 | AI24: 1122354 | AJ24: 43905 | AL24: 112350 | AM24: 43905 | AO24: 工商银行 | AP24: 6000000022
A25: 23 | B25: W0023 | C25: 李二三 | D25: =IF(MOD(MID(M25,17,1),2),"男","女") -> 男 | E25: 研发部 | F25: UI设计 | G25: 43895 | H25: 43983 | I25: 3 | J25: =EDATE(G25,I25*12)-1 -> 44989 | K25: =IF(TODAY()=J25,"已到期",IF(TODAY()>J25,"已过期"&TODAY()-J25&"天",IF(J25-TODAY(),"还差"&J25-TODAY()&"天到期",))) -> 还差639天到期 | L25: =IF(G25="","",IF(AG25="",(TODAY()-G25)/365.25,(AG25-G25)/365.25)) -> 1.2457221 | M25: 0022040 | N25: =IF(LEN(M25)=15,MID(M25,9,2)&"月"&MID(M25,11,2)&"日",MID(M25,11,2)&"月"&MID(M25,13,2)&"日") -> 05月15日 | O25: =YEAR(TODAY())-MID(M25,7,4) -> 22 | P25: 未婚 | Q25: 广东省 | R25: 广东省惠州市惠东县 | S25: 广东省深圳市龙岗区 | T25: 汉 | U25: 群众 | V25: 无 | X25: 大专 | Y25: 华中科技大学 | Z25: 设计管理 | AA25: 英语 | AB25: CET-4 | AC25: 12345678932 | AD25: 名字23 | AE25: 12345678962 | AF25: =IF(J25="","",IF(AG25="","在职",IF(AG25<TODAY(),"已离职","在职"))) -> 在职 | AI25: 1122355 | AJ25: 43905 | AL25: 112351 | AM25: 43905 | AO25: 工商银行 | AP25: 6000000023
A26: 24 | B26: W0024 | C26: 蔡二四 | D26: =IF(MOD(MID(M26,17,1),2),"男","女") -> 男 | E26: 研发部 | F26: UI设计 | G26: 43895 | H26: 43983 | I26: 3 | J26: =EDATE(G26,I26*12)-1 -> 44989 | K26: =IF(TODAY()=J26,"已到期",IF(TODAY()>J26,"已过期"&TODAY()-J26&"天",IF(J26-TODAY(),"还差"&J26-TODAY()&"天到期",))) -> 还差639天到期 | L26: =IF(G26="","",IF(AG26="",(TODAY()-G26)/365.25,(AG26-G26)/365.25)) -> 1.2457221 | M26: 0024280 | N26: =IF(LEN(M26)=15,MID(M26,9,2)&"月"&MID(M26,11,2)&"日",MID(M26,11,2)&"月"&MID(M26,13,2)&"日") -> 10月19日 | O26: =YEAR(TODAY())-MID(M26,7,4) -> 28 | P26: 未婚 | Q26: 广东省 | R26: 广东省中山市顺德市 | S26: 广东省深圳市某企业区 | T26: 汉 | U26: 群众 | V26: 无 | X26: 本科 | Y26: 同济大学 | Z26: 传播设计 | AA26: 英语 | AB26: CET-4 | AC26: 12345678933 | AD26: 名字24 | AE26: 12345678963 | AF26: =IF(J26="","",IF(AG26="","在职",IF(AG26<TODAY(),"已离职","在职"))) -> 在职 | AI26: 1122356 | AJ26: 43905 | AL26: 112352 | AM26: 43905 | AO26: 工商银行 | AP26: 6000000024
A27: 25 | B27: W0025 | C27: 庞二五 | D27: =IF(MOD(MID(M27,17,1),2),"男","女") -> 男 | E27: 研发部 | F27: 运维工程师 | G27: 43908 | H27: 43997 | I27: 3 | J27: =EDATE(G27,I27*12)-1 -> 45002 | K27: =IF(TODAY()=J27,"已到期",IF(TODAY()>J27,"已过期"&TODAY()-J27&"天",IF(J27-TODAY(),"还差"&J27-TODAY()&"天到期",))) -> 还差652天到期 | L27: =IF(G27="","",IF(AG27="",(TODAY()-G27)/365.25,(AG27-G27)/365.25)) -> 1.21 | M27: 0002810 | N27: =IF(LEN(M27)=15,MID(M27,9,2)&"月"&MID(M27,11,2)&"日",MID(M27,11,2)&"月"&MID(M27,13,2)&"日") -> 12月20日 | O27: =YEAR(TODAY())-MID(M27,7,4) -> 25 | P27: 未婚 | Q27: 广西省 | R27: 广西南宁市西乡塘区 | S27: 广东省深圳市某企业区 | T27: 汉 | U27: 群众 | V27: 无 | X27: 中专 | Y27: 广东职业中学 | Z27: 计算机应用 | AC27: 12345678934 | AD27: 名字25 | AE27: 12345678964 | AF27: =IF(J27="","",IF(AG27="","在职",IF(AG27<TODAY(),"已离职","在职"))) -> 在职 | AI27: 1122357 | AJ27: 43936 | AL27: 112353 | AM27: 43936 | AO27: 工商银行 | AP27: 6000000025
A28: 26 | B28: W0026 | C28: 魏二六 | D28: =IF(MOD(MID(M28,17,1),2),"男","女") -> 男 | E28: 研发部 | F28: 运维工程师 | G28: 43908 | H28: 43997 | I28: 3 | J28: =EDATE(G28,I28*12)-1 -> 45002 | K28: =IF(TODAY()=J28,"已到期",IF(TODAY()>J28,"已过期"&TODAY()-J28&"天",IF(J28-TODAY(),"还差"&J28-TODAY()&"天到期",))) -> 还差652天到期 | L28: =IF(G28="","",IF(AG28="",(TODAY()-G28)/365.25,(AG28-G28)/365.25)) -> 1.2648871 | M28: 0008260 | N28: =IF(LEN(M28)=15,MID(M28,9,2)&"月"&MID(M28,11,2)&"日",MID(M28,11,2)&"月"&MID(M28,13,2)&"日") -> 02月12日 | O28: =YEAR(TODAY())-MID(M28,7,4) -> 26 | P28: 未婚 | Q28: 四川省 | R28: 四川省成都市锦江区 | S28: 广东省深圳市某企业区 | T28: 汉 | U28: 群众 | V28: 无 | X28: 大专 | Y28: 南宁学院 | Z28: 计算机应用 | AA28: 英语 | AB28: CET-4 | AC28: 12345678935 | AD28: 名字26 | AE28: 12345678965 | AF28: =IF(J28="","",IF(AG28="","在职",IF(AG28<TODAY(),"已离职","在职"))) -> 在职 | AG28: 44370 | AH28: 个人原因 | AI28: 1122358 | AJ28: 43936 | AK28: 44377 | AL28: 112354 | AM28: 43936 | AN28: 44377 | AO28: 工商银行 | AP28: 6000000026
A29: 27 | B29: W0027 | C29: 张二七 | D29: =IF(MOD(MID(M29,17,1),2),"男","女") -> 男 | E29: 营销部 | F29: 区域经理 | G29: 43908 | H29: 43997 | I29: 3 | J29: =EDATE(G29,I29*12)-1 -> 45002 | K29: =IF(TODAY()=J29,"已到期",IF(TODAY()>J29,"已过期"&TODAY()-J29&"天",IF(J29-TODAY(),"还差"&J29-TODAY()&"天到期",))) -> 还差652天到期 | L29: =IF(G29="","",IF(AG29="",(TODAY()-G29)/365.25,(AG29-G29)/365.25)) -> 1.21 | M29: 0023310 | N29: =IF(LEN(M29)=15,MID(M29,9,2)&"月"&MID(M29,11,2)&"日",MID(M29,11,2)&"月"&MID(M29,13,2)&"日") -> 02月10日 | O29: =YEAR(TODAY())-MID(M29,7,4) -> 27 | P29: 未婚 | Q29: 四川省 | R29: 四川省成都市武侯区 | S29: 广东省深圳市某企业区 | T29: 汉 | U29: 党员 | V29: 无 | X29: 本科 | Y29: 复旦大学 | Z29: 计算机应用 | AA29: 英语 | AB29: CET-6 | AC29: 12345678936 | AD29: 名字27 | AE29: 12345678966 | AF29: =IF(J29="","",IF(AG29="","在职",IF(AG29<TODAY(),"已离职","在职"))) -> 在职 | AI29: 1122359 | AJ29: 43936 | AL29: 112355 | AM29: 43936 | AO29: 工商银行 | AP29: 6000000027
A30: 28 | B30: W0028 | C30: 王二八 | D30: =IF(MOD(MID(M30,17,1),2),"男","女") -> 男 | E30: 营销部 | F30: 大客户经理 | G30: 44001 | H30: 44089 | I30: 3 | J30: =EDATE(G30,I30*12)-1 -> 45095 | K30: =IF(TODAY()=J30,"已到期",IF(TODAY()>J30,"已过期"&TODAY()-J30&"天",IF(J30-TODAY(),"还差"&J30-TODAY()&"天到期",))) -> 还差745天到期 | L30: =IF(G30="","",IF(AG30="",(TODAY()-G30)/365.25,(AG30-G30)/365.25)) -> 0.95550992 | M30: 0024270 | N30: =IF(LEN(M30)=15,MID(M30,9,2)&"月"&MID(M30,11,2)&"日",MID(M30,11,2)&"月"&MID(M30,13,2)&"日") -> 08月16日 | O30: =YEAR(TODAY())-MID(M30,7,4) -> 24 | P30: 未婚 | Q30: 湖南省 | R30: 湖南省长沙市天心区 | S30: 广东省深圳市某企业区 | T30: 汉 | U30: 群众 | V30: 无 | X30: 大专 | Y30: 中国海洋大学 | Z30: 软件技术 | AA30: 英语 | AB30: CET-4 | AC30: 12345678937 | AD30: 名字28 | AE30: 12345678967 | AF30: =IF(J30="","",IF(AG30="","在职",IF(AG30<TODAY(),"已离职","在职"))) -> 在职 | AI30: 1122360 | AJ30: 44027 | AL30: 112356 | AM30: 44027 | AO30: 工商银行 | AP30: 6000000028
A31: 29 | B31: W0029 | C31: 刘二九 | D31: =IF(MOD(MID(M31,17,1),2),"男","女") -> 男 | E31: 营销部 | F31: 销售经理 | G31: 44001 | H31: 44089 | I31: 3 | J31: =EDATE(G31,I31*12)-1 -> 45095 | K31: =IF(TODAY()=J31,"已到期",IF(TODAY()>J31,"已过期"&TODAY()-J31&"天",IF(J31-TODAY(),"还差"&J31-TODAY()&"天到期",))) -> 还差745天到期 | L31: =IF(G31="","",IF(AG31="",(TODAY()-G31)/365.25,(AG31-G31)/365.25)) -> 0.95550992 | M31: 0007340 | N31: =IF(LEN(M31)=15,MID(M31,9,2)&"月"&MID(M31,11,2)&"日",MID(M31,11,2)&"月"&MID(M31,13,2)&"日") -> 11月27日 | O31: =YEAR(TODAY())-MID(M31,7,4) -> 23 | P31: 未婚 | Q31: 湖南省 | R31: 湖南省邵阳市邵东县 | S31: 广东省深圳市宝安区 | T31: 汉 | U31: 群众 | V31: 无 | X31: 高中 | Y31: 理科 | AC31: 12345678938 | AD31: 名字29 | AE31: 12345678968 | AF31: =IF(J31="","",IF(AG31="","在职",IF(AG31<TODAY(),"已离职","在职"))) -> 在职 | AI31: 1122361 | AJ31: 44027 | AL31: 112357 | AM31: 44027 | AO31: 工商银行 | AP31: 6000000029
A32: 30 | B32: W0030 | C32: 周三十 | D32: =IF(MOD(MID(M32,17,1),2),"男","女") -> 女 | E32: 营销部 | F32: 销售经理 | G32: 44002 | H32: 44089 | I32: 3 | J32: =EDATE(G32,I32*12)-1 -> 45096 | K32: =IF(TODAY()=J32,"已到期",IF(TODAY()>J32,"已过期"&TODAY()-J32&"天",IF(J32-TODAY(),"还差"&J32-TODAY()&"天到期",))) -> 还差746天到期 | L32: =IF(G32="","",IF(AG32="",(TODAY()-G32)/365.25,(AG32-G32)/365.25)) -> 0.95277207 | M32: 0004270 | N32: =IF(LEN(M32)=15,MID(M32,9,2)&"月"&MID(M32,11,2)&"日",MID(M32,11,2)&"月"&MID(M32,13,2)&"日") -> 09月20日 | O32: =YEAR(TODAY())-MID(M32,7,4) -> 26 | P32: 未婚 | Q32: 广西省 | R32: 广西贵港市玉林市 | S32: 广东省深圳市宝安区 | T32: 壮 | U32: 群众 | V32: 无 | X32: 大专 | Y32: 大连理工大学 | Z32: 软件设计 | AA32: 英语 | AB32: CET-4 | AC32: 12345678939 | AD32: 名字30 | AE32: 12345678969 | AF32: =IF(J32="","",IF(AG32="","在职",IF(AG32<TODAY(),"已离职","在职"))) -> 在职 | AI32: 1122362 | AJ32: 44027 | AL32: 112358 | AM32: 44027 | AO32: 工商银行 | AP32: 6000000030

Sheet 教育经历
A1: 序号 | B1: 工号 | C1: 姓名 | D1: 最高学历 | J1: 第二学历 | P1: 备注
D2: 学历 | E2: 学历类型 | F2: 毕业院校 | G2: 专业 | H2: 入学时间 | I2: 毕业时间 | J2: 学历 | K2: 学历类型 | L2: 毕业院校 | M2: 专业 | N2: 入学时间 | O2: 毕业时间
A3: 手动输入 | B3: 手动输入 | C3: 公式自动录入 | D3: 公式自动录入 | E3: 手动输入 | F3: 公式自动录入 | G3: 公式自动录入 | H3: 手动输入 | I3: 手动输入 | J3: 手动输入 | K3: 手动输入 | L3: 手动输入 | M3: 手动输入 | N3: 手动输入 | O3: 手动输入 | P3: 手动输入
A4: 1 | B4: W0001 | C4: =VLOOKUP(B4,员工花名册!B3:H32,2,0) -> 张一一 | D4: =VLOOKUP(B4,员工花名册!B3:Z32,23,0) -> 硕士 | E4: 非全日制 | F4: =VLOOKUP(B4,员工花名册!B3:AF32,24,0) -> 深圳大学 | G4: =VLOOKUP(B4,员工花名册!B3:AF32,25,0) -> 工商管理 | H4: 2017/09 | I4: 2020/06 | J4: 本科 | K4: 全日制 | L4: 深圳大学 | M4: 工商管理 | N4: 2013/09 | O4: 2017/06
A5: 2 | B5: W0002 | C5: =VLOOKUP(B5,员工花名册!B4:H32,2,0) -> 刘二二 | D5: =VLOOKUP(B5,员工花名册!B4:Z33,23,0) -> 本科 | E5: 全日制 | F5: =VLOOKUP(B5,员工花名册!B4:AF33,24,0) -> 广州大学 | G5: =VLOOKUP(B5,员工花名册!B4:AF33,25,0) -> 工商企业管理 | H5: 2015/09 | I5: 2019/06 | J5: 高中 | K5: 全日制 | L5: 广州大学 | M5: 工商企业管理 | N5: 2012/09 | O5: 2015/06
A6: 3 | B6: W0003 | C6: =VLOOKUP(B6,员工花名册!B5:H33,2,0) -> 王三三 | D6: =VLOOKUP(B6,员工花名册!B5:Z34,23,0) -> 博士 | E6: 全日制 | F6: =VLOOKUP(B6,员工花名册!B5:AF34,24,0) -> 湖南理工大学 | G6: =VLOOKUP(B6,员工花名册!B5:AF34,25,0) -> 微电子学与固体电子学 | H6: 2013/09 | I6: 2018/06 | J6: 本科 | K6: 全日制 | L6: 湖南理工大学 | M6: 微电子学与固体电子学 | N6: 2009/09 | O6: 2013/06
A7: 4 | B7: W0004 | C7: =VLOOKUP(B7,员工花名册!B6:H34,2,0) -> 周四四 | D7: =VLOOKUP(B7,员工花名册!B6:Z35,23,0) -> 博士 | E7: 全日制 | F7: =VLOOKUP(B7,员工花名册!B6:AF35,24,0) -> 北京大学 | G7: =VLOOKUP(B7,员工花名册!B6:AF35,25,0) -> 农业经济管理 | H7: 2014/09 | I7: 2019/06 | J7: 本科 | K7: 全日制 | L7: 北京大学 | M7: 农业经济管理 | N7: 2010/09 | O7: 2014/06
A8: 5 | B8: W0005 | C8: =VLOOKUP(B8,员工花名册!B7:H35,2,0) -> 赵五五 | D8: =VLOOKUP(B8,员工花名册!B7:Z36,23,0) -> 硕士 | E8: 非全日制 | F8: =VLOOKUP(B8,员工花名册!B7:AF36,24,0) -> 清华大学 | G8: =VLOOKUP(B8,员工花名册!B7:AF36,25,0) -> 法律 | H8: 2016/09 | I8: 2020/06 | J8: 本科 | K8: 全日制 | L8: 清华大学 | M8: 法律 | N8: 2012/09 | O8: 2016/06
A9: 6 | B9: W0006 | C9: =VLOOKUP(B9,员工花名册!B8:H36,2,0) -> 陈六六 | D9: =VLOOKUP(B9,员工花名册!B8:Z37,23,0) -> 本科 | E9: 全日制 | F9: =VLOOKUP(B9,员工花名册!B8:AF37,24,0) -> 广西大学 | G9: =VLOOKUP(B9,员工花名册!B8:AF37,25,0) -> 法学 | H9: 2016/09 | I9: 2020/06 | J9: 高中 | K9: 全日制 | L9: 广西大学附中 | M9: 理科 | N9: 2013/09 | O9: 2016/06
A10: 7 | B10: W0007 | C10: =VLOOKUP(B10,员工花名册!B9:H37,2,0) -> 方七七 | D10: =VLOOKUP(B10,员工花名册!B9:Z38,23,0) -> 本科 | E10: 全日制 | F10: =VLOOKUP(B10,员工花名册!B9:AF38,24,0) -> 广西民族大学 | G10: =VLOOKUP(B10,员工花名册!B9:AF38,25,0) -> 工商企业管理 | H10: 2014/09 | I10: 2018/06 | J10: 高中 | K10: 全日制 | L10: 广西民族大学附中 | M10: 理科 | N10: 2011/09 | O10: 2014/06
A11: 8 | B11: W0008 | C11: =VLOOKUP(B11,员工花名册!B10:H38,2,0) -> 秦八八 | D11: =VLOOKUP(B11,员工花名册!B10:Z39,23,0) -> 大专 | E11: 全日制 | F11: =VLOOKUP(B11,员工花名册!B10:AF39,24,0) -> 山东理工大学 | G11: =VLOOKUP(B11,员工花名册!B10:AF39,25,0) -> 国际贸易 | H11: 2017/09 | I11: 2020/06 | J11: 高中 | K11: 全日制 | L11: 山东理工大学附中 | M11: 理科 | N11: 2014/09 | O11: 2017/06
A12: 9 | B12: W0009 | C12: =VLOOKUP(B12,员工花名册!B11:H39,2,0) -> 唐九九 | D12: =VLOOKUP(B12,员工花名册!B11:Z40,23,0) -> 大专 | E12: 全日制 | F12: =VLOOKUP(B12,员工花名册!B11:AF40,24,0) -> 厦门大学 | G12: =VLOOKUP(B12,员工花名册!B11:AF40,25,0) -> 物流管理 | H12: 2013/09 | I12: 2018/06 | J12: 高中 | K12: 全日制 | L12: 厦门大学附中 | M12: 理科 | N12: 2010/09 | O12: 2013/06
A13: 10 | B13: W0010 | C13: =VLOOKUP(B13,员工花名册!B12:H40,2,0) -> 萧一十 | D13: =VLOOKUP(B13,员工花名册!B12:Z41,23,0) -> 本科 | E13: 全日制 | F13: =VLOOKUP(B13,员工花名册!B12:AF41,24,0) -> 四川大学 | G13: =VLOOKUP(B13,员工花名册!B12:AF41,25,0) -> 软件技术 | H13: 2014/09 | I13: 2019/06 | J13: 高中 | K13: 全日制 | L13: 四川大学附中 | M13: 理科 | N13: 2011/09 | O13: 2014/06
A14: 11 | B14: W0011 | C14: =VLOOKUP(B14,员工花名册!B13:H41,2,0) -> 朱十一 | D14: =VLOOKUP(B14,员工花名册!B13:Z42,23,0) -> 大专 | E14: 全日制 | F14: =VLOOKUP(B14,员工花名册!B13:AF42,24,0) -> 武汉大学 | G14: =VLOOKUP(B14,员工花名册!B13:AF42,25,0) -> 计算机信息管理 | H14: 2016/09 | I14: 2020/06 | J14: 高中 | K14: 全日制 | L14: 武汉大学附中 | M14: 理科 | N14: 2013/09 | O14: 2016/06
A15: 12 | B15: W0012 | C15: =VLOOKUP(B15,员工花名册!B14:H42,2,0) -> 周十二 | D15: =VLOOKUP(B15,员工花名册!B14:Z43,23,0) -> 本科 | E15: 全日制 | F15: =VLOOKUP(B15,员工花名册!B14:AF43,24,0) -> 中山大学 | G15: =VLOOKUP(B15,员工花名册!B14:AF43,25,0) -> 软件工程 | H15: 2016/09 | I15: 2020/06 | J15: 高中 | K15: 全日制 | L15: 中山大学附中 | M15: 理科 | N15: 2013/09 | O15: 2016/06
A16: 13 | B16: W0013 | C16: =VLOOKUP(B16,员工花名册!B15:H43,2,0) -> 庞十三 | D16: =VLOOKUP(B16,员工花名册!B15:Z44,23,0) -> 大专 | E16: 全日制 | F16: =VLOOKUP(B16,员工花名册!B15:AF44,24,0) -> 中南大学 | G16: =VLOOKUP(B16,员工花名册!B15:AF44,25,0) -> 软件开发 | H16: 2014/09 | I16: 2018/06 | J16: 高中 | K16: 全日制 | L16: 中南大学附中 | M16: 理科 | N16: 2011/09 | O16: 2014/06
... A18: 15 | B18: W0015 | C18: =VLOOKUP(B18,员工花名册!B17:H45,2,0) -> 刘十五 | D18: =VLOOKUP(B18,员工花名册!B17:Z46,23,0) -> 本科 | E18: 全日制 | F18: =VLOOKUP(B18,员工花名册!B17:AF46,24,0) -> 西南大学 | G18: =VLOOKUP(B18,员工花名册!B17:AF46,25,0) -> 艺术设计 | H18: 2016/09 | I18: 2020/06 | J18: 高中 | K18: 全日制 | L18: 西南大学附中 | M18: 理科 | N18: 2013/09 | O18: 2016/06

Sheet 工作经历
A1: 序号 | B1: 工号 | C1: 姓名 | D1: 最近一份工作经历 | H1: 第二份工作经历 | L1: 第三份工作经历 | P1: 备注
D2: 公司名称 | E2: 职务 | F2: 入职日期 | G2: 离职日期 | H2: 公司名称 | I2: 职务 | J2: 入职日期 | K2: 离职日期 | L2: 公司名称 | M2: 职务 | N2: 入职日期 | O2: 离职日期
A3: 手动输入 | B3: 手动输入 | C3: 公式自动录入 | D3: 手动输入 | E3: 手动输入 | F3: 手动输入 | G3: 手动输入 | H3: 手动输入 | I3: 手动输入 | J3: 手动输入 | K3: 手动输入 | L3: 手动输入 | M3: 手动输入 | N3: 手动输入 | O3: 手动输入 | P3: 手动输入
A4: 1 | B4: W0001 | C4: =VLOOKUP(B4,员工花名册!B3:AP70,2,0) -> 张一一 | D4: 广东XX公司 | E4: 总经理 | F4: 2010/05 | G4: 2020/10 | H4: 广东省X公司 | I4: 经理 | J4: 2003/11 | K4: 2010/05 | L4: 广东X公司 | M4: 经理 | N4: 2001/10 | O4: 2003/11
A5: 2 | B5: W0002 | C5: =VLOOKUP(B5,员工花名册!B3:AP70,2,0) -> 刘二二 | D5: 深圳XX公司 | E5: 总助 | F5: 2019/05 | G5: 2020/10 | H5: 深圳省X公司 | I5: 秘书 | J5: 2018/12 | K5: 2019/05 | L5: 深圳X公司 | M5: 秘书 | N5: 2018/06 | O5: 2018/12
A6: 3 | B6: W0003 | C6: =VLOOKUP(B6,员工花名册!B3:AP70,2,0) -> 王三三 | D6: 湖南XX公司 | E6: 经理 | F6: 2015/01 | G6: 2020/11 | H6: 湖南省X公司 | I6: 经理 | J6: 2008/10 | K6: 2015/01 | L6: 湖南X公司 | M6: 经理 | N6: 2007/02 | O6: 2008/10
A7: 4 | B7: W0004 | C7: =VLOOKUP(B7,员工花名册!B3:AP70,2,0) -> 周四四 | D7: 北京XX公司 | E7: 经理 | F7: 2015/02 | G7: 2020/12 | H7: 北京省X公司 | I7: 经理 | J7: 2008/11 | K7: 2015/02 | L7: 北京X公司 | M7: 经理 | N7: 2007/03 | O7: 2008/11
A8: 5 | B8: W0005 | C8: =VLOOKUP(B8,员工花名册!B3:AP70,2,0) -> 赵五五 | D8: 中山XX公司 | E8: 经理 | F8: 2019/05 | G8: 2020/10 | H8: 中山省X公司 | I8: 经理 | J8: 2018/01 | K8: 2019/05 | L8: 中山X公司 | M8: 经理 | N8: 2017/05 | O8: 2018/01
A9: 6 | B9: W0006 | C9: =VLOOKUP(B9,员工花名册!B3:AP70,2,0) -> 陈六六 | D9: 长沙XX公司 | E9: 经理 | F9: 2019/06 | G9: 2020/11 | H9: 长沙省X公司 | I9: 经理 | J9: 2018/02 | K9: 2019/06 | L9: 长沙X公司 | M9: 经理 | N9: 2017/06 | O9: 2018/02
A10: 7 | B10: W0007 | C10: =VLOOKUP(B10,员工花名册!B3:AP70,2,0) -> 方七七 | D10: 广州XX公司 | E10: 经理 | F10: 2018/10 | G10: 2020/05 | H10: 广州省X公司 | I10: 经理 | J10: 2018/03 | K10: 2018/10 | L10: 广州X公司 | M10: 经理 | N10: 2017/07 | O10: 2018/03
A11: 8 | B11: W0008 | C11: =VLOOKUP(B11,员工花名册!B3:AP70,2,0) -> 秦八八 | D11: 广东XX公司 | E11: 经理 | F11: 2018/11 | G11: 2020/06 | H11: 广东省X公司 | I11: 经理 | J11: 2017/02 | K11: 2018/11 | L11: 广东X公司 | M11: 经理 | N11: 2016/04 | O11: 2017/02
A12: 9 | B12: W0009 | C12: =VLOOKUP(B12,员工花名册!B3:AP70,2,0) -> 唐九九 | D12: 深圳XX公司 | E12: 经理 | F12: 2018/12 | G12: 2020/07 | H12: 深圳省X公司 | I12: 经理 | J12: 2017/03 | K12: 2018/12 | L12: 深圳X公司 | M12: 经理 | N12: 2016/05 | O12: 2017/03
A13: 10 | B13: W0010 | C13: =VLOOKUP(B13,员工花名册!B3:AP70,2,0) -> 萧一十 | D13: 湖南XX公司 | E13: 经理 | F13: 2020/01 | G13: 2021/02 | H13: 湖南省X公司 | I13: 经理 | J13: 2019/01 | K13: 2020/01 | L13: 湖南X公司 | M13: 经理 | N13: 2018/03 | O13: 2019/01
A14: 11 | B14: W0011 | C14: =VLOOKUP(B14,员工花名册!B3:AP70,2,0) -> 朱十一 | D14: 北京XX公司 | E14: 经理 | F14: 2020/02 | G14: 2021/03 | H14: 北京省X公司 | I14: 专员 | J14: 2019/02 | K14: 2020/02 | L14: 北京X公司 | M14: 专员 | N14: 2018/04 | O14: 2019/02
A15: 12 | B15: W0012 | C15: =VLOOKUP(B15,员工花名册!B3:AP70,2,0) -> 周十二 | D15: 中山XX公司 | E15: 经理 | F15: 2015/02 | G15: 2020/12 | H15: 中山省X公司 | I15: 专员 | J15: 2008/11 | K15: 2015/02 | L15: 中山X公司 | M15: 专员 | N15: 2007/03 | O15: 2008/11
A16: 13 | B16: W0013 | C16: =VLOOKUP(B16,员工花名册!B3:AP70,2,0) -> 庞十三 | D16: 长沙XX公司 | E16: 经理 | F16: 2019/05 | G16: 2020/10 | H16: 长沙省X公司 | I16: 专员 | J16: 2018/01 | K16: 2019/05 | L16: 长沙X公司 | M16: 专员 | N16: 2017/05 | O16: 2018/01
A17: 14 | B17: W0014 | C17: =VLOOKUP(B17,员工花名册!B3:AP70,2,0) -> 方十四 | D17: 广州XX公司 | E17: 经理 | F17: 2019/06 | G17: 2020/11 | H17: 广州X省公司 | I17: 专员 | J17: 2018/02 | K17: 2019/06 | L17: 广州X公司 | M17: 专员 | N17: 2017/06 | O17: 2018/02
A18: 15 | B18: W0015 | C18: =VLOOKUP(B18,员工花名册!B3:AP70,2,0) -> 刘十五 | D18: 南昌XX公司 | E18: 经理 | F18: 2019/04 | G18: 2020/12 | H18: 南昌X省公司 | I18: 专员 | J18: 2018/03 | K18: 2019/04 | L18: 南昌X公司 | M18: 专员 | N18: 2017/07 | O18: 2018/03

Sheet 员工履历表
B1: 姓名查询： | C1: 张一一
A2: 员工履历表
A3: 个人基本资料 | B3: 姓名 | C3: =VLOOKUP(C1,员工花名册!C3:AP32,1,0) -> 张一一 | D3: 性别 | E3: =VLOOKUP(C1,员工花名册!C3:AP32,2,0) -> 男 | F3: 年龄 | G3: =VLOOKUP(C1,员工花名册!C3:AP32,13,0) -> 48
B4: 生日 | C4: =VLOOKUP(C1,员工花名册!C3:AP32,12,0) -> 12月16日 | D4: 籍贯 | E4: =VLOOKUP(C1,员工花名册!C3:AP32,15,0) -> 广东省 | F4: 民族 | G4: =VLOOKUP(C1,员工花名册!C3:AP32,18,0) -> 汉
B5: 政治面貌 | C5: =VLOOKUP(C1,员工花名册!C3:AP32,19,0) -> 党员 | D5: 婚姻状况 | E5: =VLOOKUP(C1,员工花名册!C3:AP32,14,0) -> 已婚 | F5: 职称 | G5: =VLOOKUP(C1,员工花名册!C3:AP32,20,0) -> 高级
B6: 职称/资格证书 | C6: =VLOOKUP(C1,员工花名册!C3:AP32,21,0) -> 高级工程师 | D6: 外语 | E6: =VLOOKUP(C1,员工花名册!C3:AP32,25,0) -> 英语 | F6: 外语水平 | G6: =VLOOKUP(C1,员工花名册!C3:AP32,26,0) -> CET-4
B7: 开户行 | C7: =VLOOKUP(C1,员工花名册!C3:AP32,39,0) -> 工商银行 | D7: 银行卡号 | E7: =VLOOKUP(C1,员工花名册!C3:AP32,40,0) -> 6000000001
B8: 身份证号码 | C8: =VLOOKUP(C1,员工花名册!C3:AP32,11,0) -> 0004270 | F8: 联系电话 | G8: =VLOOKUP(C1,员工花名册!C3:AP32,27,0) -> 12345678910
B9: 户籍地址 | C9: =VLOOKUP(C1,员工花名册!C3:AP32,16,0) -> 广东省深圳市南山区 | F9: 紧急联系人 | G9: =VLOOKUP(C1,员工花名册!C3:AP32,28,0) -> 名字1
B10: 现 住 址 | C10: =VLOOKUP(C1,员工花名册!C3:AP32,17,0) -> 广东省深圳市南山区 | F10: 紧急联系电话 | G10: =VLOOKUP(C1,员工花名册!C3:AP32,29,0) -> 12345678940
A11: 教育经历 | B11: 入学时间 | C11: 毕业时间 | D11: 毕业院校 | F11: 学历 | G11: 专业 | H11: 学历类型
B12: =VLOOKUP(C1,教育经历!C4:O18,6,0) -> 2017/09 | C12: =VLOOKUP(C1,教育经历!C4:O18,7,0) -> 2020/06 | D12: =VLOOKUP(C1,教育经历!C4:O18,4,0) -> 深圳大学 | F12: =VLOOKUP(C1,教育经历!C4:O18,2,0) -> 硕士 | G12: =VLOOKUP(C1,教育经历!C4:O18,5,0) -> 工商管理 | H12: =VLOOKUP(C1,教育经历!C4:O18,3,0) -> 非全日制
B13: =VLOOKUP(C1,教育经历!C4:O18,12,0) -> 2013/09 | C13: =VLOOKUP(C1,教育经历!C4:O18,13,0) -> 2017/06 | D13: =VLOOKUP(C1,教育经历!C4:O18,10,0) -> 深圳大学 | F13: =VLOOKUP(C1,教育经历!C4:O18,8,0) -> 本科 | G13: =VLOOKUP(C1,教育经历!C4:O18,11,0) -> 工商管理 | H13: =VLOOKUP(C1,教育经历!C4:O18,9,0) -> 全日制
A16: 工作经历 | B16: 入职日期 | C16: 离职日期 | D16: 公司名称 | F16: 职务 | G16: 备注
B17: =VLOOKUP(C1,工作经历!C4:P18,4,0) -> 2010/05 | C17: =VLOOKUP(C1,工作经历!C4:P18,5,0) -> 2020/10 | D17: =VLOOKUP(C1,工作经历!C4:P18,2,0) -> 广东XX公司 | F17: =VLOOKUP(C1,工作经历!C4:P18,3,0) -> 总经理
B18: =VLOOKUP(C1,工作经历!C4:P18,8,0) -> 2003/11 | C18: =VLOOKUP(C1,工作经历!C4:P18,9,0) -> 2010/05 | D18: =VLOOKUP(C1,工作经历!C4:P18,6,0) -> 广东省X公司 | F18: =VLOOKUP(C1,工作经历!C4:P18,7,0) -> 经理
B19: =VLOOKUP(C1,工作经历!C4:P18,12,0) -> 2001/10 | C19: =VLOOKUP(C1,工作经历!C4:P18,13,0) -> 2003/11 | D19: =VLOOKUP(C1,工作经历!C4:P18,10,0) -> 广东X公司 | F19: =VLOOKUP(C1,工作经历!C4:P18,11,0) -> 经理
A20: 任职信息 | B20: 入职日期 | C20: =VLOOKUP(C1,员工花名册!C3:AP32,5,0) -> 41760 | D20: 转正日期 | E20: =VLOOKUP(C1,员工花名册!C3:AP32,6,0) -> 41852 | F20: 离职日期 | G20: =VLOOKUP(C1,员工花名册!C3:AP87,31,0) -> 0
B21: 部门 | C21: =VLOOKUP(C1,员工花名册!C3:AP32,3,0) -> 总经办 | D21: 职务 | E21: =VLOOKUP(C1,员工花名册!C3:AP32,4,0) -> 董事长 | F21: 工龄（年） | G21: =VLOOKUP(C1,员工花名册!C3:AP87,10,0) -> 7.0910335
B22: 合同开始日期 | C22: =VLOOKUP(C1,员工花名册!C3:AP87,5,0) -> 41760 | D22: 结束日期 | E22: =VLOOKUP(C1,员工花名册!C3:AP87,8,0) -> 43585 | F22: 合同到期提醒 | G22: =VLOOKUP(C1,员工花名册!C3:AP87,9,0) -> 已过期765天
A23: 其他信息 | B23: 社保帐号 | C23: =VLOOKUP(C1,员工花名册!C3:AP87,33,0) -> 1122333 | D23: 申购日期 | E23: =VLOOKUP(C1,员工花名册!C3:AP87,34,0) -> 41774 | F23: 停保日期 | G23: =VLOOKUP(C1,员工花名册!C3:AP87,35,0) -> 0
B24: 公积金帐号 | C24: =VLOOKUP(C1,员工花名册!C3:AP87,36,0) -> 112329 | D24: 申购日期 | E24: =VLOOKUP(C1,员工花名册!C3:AP87,37,0) -> 41774 | F24: 封存日期 | G24: =VLOOKUP(C1,员工花名册!C3:AP87,38,0) -> 0
B25: 异动记录 | C25: =VLOOKUP(C1,员工花名册!C3:AS32,41,0) -> 0
B26: 奖惩记录 | C26: =VLOOKUP(C1,员工花名册!C3:AS32,42,0) -> 0
B27: 调薪记录 | C27: =VLOOKUP(C1,员工花名册!C3:AS32,43,0) -> 0

Sheet 使用说明
A1: 说明：
A2: 1、【员工花名册】填写员工基本信息，注意带公式的列可自动计算，不需手动输入（注：带公式列已红色字体标记）
A3: 2、【员工花名册】合同到期提醒：如合同已过期，将深红色突出标示；合同即将到期的30天内将以浅粉色提示标示
A4: 3、【员工履历表】根据条件查询员工基本信息，可按照员工姓名返回汇总员工的履历明细
A5: 4、【首页】各类图表根据统计的数据生成图表，图表根据实际数据自动调整
A6: 5、表格具有强大的灵活性，实际使用中可根据自己需要自由调整
