Workbook
Name month: #REF!
Name year: #REF!

Sheet 表格
E4: 人事变动情况数据分析表 | J4: =F19 -> 327 | L4: =E19 -> 269 | N4: =G19 -> 58 | Q4: =H19 -> 0.322147
E5: Analysis table of personnel change data | J5: =F8 -> 本期员工数量 | L5: =E8 -> 上期员工数量 | N5: =G8 -> 变动人数 | Q5: =H8 -> 变动率
D8: 区域/店铺 | E8: 上期员工数量 | F8: 本期员工数量 | G8: 变动人数 | H8: 变动率 | J8: 区域/店铺 | K8: 上期员工数量 | L8: 本期员工数量
D9: 区域1 | E9: 38 | F9: 28 | G9: =F9-E9 -> -10 | H9: =IFERROR(G9/AVERAGE(E9:F9),"") -> -0.3030303 | J9: =INDEX($D$9:$D$18,MATCH($L9,$F$9:$F$18,0)) -> 区域2 | K9: =INDEX($E$9:$E$18,MATCH($L9,$F$9:$F$18,0)) -> 37 | L9: =LARGE($F$9:$F$18,ROW(K1)) -> 47 | M9: =K9/K$19 -> 0.148699 | N9: =L9/L$19 -> 0.015289
D10: 区域2 | E10: 37 | F10: 47 | G10: =F10-E10 -> 10 | H10: =IFERROR(G10/AVERAGE(E10:F10),"") -> 0.23809524 | J10: =INDEX($D$9:$D$18,MATCH($L10,$F$9:$F$18,0)) -> 区域8 | K10: =INDEX($E$9:$E$18,MATCH($L10,$F$9:$F$18,0)) -> 13 | L10: =LARGE($F$9:$F$18,ROW(K2)) -> 45 | M10: =K10/K$19 -> 0.0483274 | N10: =L10/L$19 -> 0.908258
D11: 区域3 | E11: 19 | F11: 44 | G11: =F11-E11 -> 25 | H11: =IFERROR(G11/AVERAGE(E11:F11),"") -> 0.79365079 | J11: =INDEX($D$9:$D$18,MATCH($L11,$F$9:$F$18,0)) -> 区域3 | K11: =INDEX($E$9:$E$18,MATCH($L11,$F$9:$F$18,0)) -> 19 | L11: =LARGE($F$9:$F$18,ROW(K3)) -> 44 | M11: =K11/K$19 -> 0.0706354 | N11: =L11/L$19 -> 0.354739
D12: 区域4 | E12: 12 | F12: 19 | G12: =F12-E12 -> 7 | H12: =IFERROR(G12/AVERAGE(E12:F12),"") -> 0.450644 | J12: =INDEX($D$9:$D$18,MATCH($L12,$F$9:$F$18,0)) -> 区域9 | K12: =INDEX($E$9:$E$18,MATCH($L12,$F$9:$F$18,0)) -> 38 | L12: =LARGE($F$9:$F$18,ROW(K4)) -> 41 | M12: =K12/K$19 -> 0.044611 | N12: =L12/L$19 -> 0.12538226
D13: 区域5 | E13: 18 | F13: 29 | G13: =F13-E13 -> 11 | H13: =IFERROR(G13/AVERAGE(E13:F13),"") -> 0.46808511 | J13: =INDEX($D$9:$D$18,MATCH($L13,$F$9:$F$18,0)) -> 区域6 | K13: =INDEX($E$9:$E$18,MATCH($L13,$F$9:$F$18,0)) -> 48 | L13: =LARGE($F$9:$F$18,ROW(K5)) -> 37 | M13: =K13/K$19 -> 0.003717 | N13: =L13/L$19 -> 0.180122
D14: 区域6 | E14: 48 | F14: 37 | G14: =F14-E14 -> -11 | H14: =IFERROR(G14/AVERAGE(E14:F14),"") -> -0.25882353 | J14: =INDEX($D$9:$D$18,MATCH($L14,$F$9:$F$18,0)) -> 区域5 | K14: =INDEX($E$9:$E$18,MATCH($L14,$F$9:$F$18,0)) -> 18 | L14: =LARGE($F$9:$F$18,ROW(K6)) -> 29 | M14: =K14/K$19 -> 0.0669934 | N14: =L14/L$19 -> 0.088685
D15: 区域7 | E15: 12 | F15: 11 | G15: =F15-E15 -> -1 | H15: =IFERROR(G15/AVERAGE(E15:F15),"") -> -0.086956522 | J15: =INDEX($D$9:$D$18,MATCH($L15,$F$9:$F$18,0)) -> 区域1 | K15: =INDEX($E$9:$E$18,MATCH($L15,$F$9:$F$18,0)) -> 38 | L15: =LARGE($F$9:$F$18,ROW(K7)) -> 28 | M15: =K15/K$19 -> 0.044611 | N15: =L15/L$19 -> 0.085626911
D16: 区域8 | E16: 13 | F16: 45 | G16: =F16-E16 -> 32 | H16: =IFERROR(G16/AVERAGE(E16:F16),"") -> 1.1034483 | J16: =INDEX($D$9:$D$18,MATCH($L16,$F$9:$F$18,0)) -> 区域10 | K16: =INDEX($E$9:$E$18,MATCH($L16,$F$9:$F$18,0)) -> 34 | L16: =LARGE($F$9:$F$18,ROW(L8)) -> 26 | M16: =K16/K$19 -> 0.12639405 | N16: =L16/L$19 -> 0.079510703
D17: 区域9 | E17: 38 | F17: 41 | G17: =F17-E17 -> 3 | H17: =IFERROR(G17/AVERAGE(E17:F17),"") -> 0.075949367 | J17: =INDEX($D$9:$D$18,MATCH($L17,$F$9:$F$18,0)) -> 区域4 | K17: =INDEX($E$9:$E$18,MATCH($L17,$F$9:$F$18,0)) -> 12 | L17: =LARGE($F$9:$F$18,ROW(L9)) -> 19 | M17: =K17/K$19 -> 0.044609665 | N17: =L17/L$19 -> 0.058103976
D18: 区域10 | E18: 34 | F18: 26 | G18: =F18-E18 -> -8 | H18: =IFERROR(G18/AVERAGE(E18:F18),"") -> -0.26666667 | J18: =INDEX($D$9:$D$18,MATCH($L18,$F$9:$F$18,0)) -> 区域7 | K18: =INDEX($E$9:$E$18,MATCH($L18,$F$9:$F$18,0)) -> 12 | L18: =LARGE($F$9:$F$18,ROW(L10)) -> 11 | M18: =K18/K$19 -> 0.044609665 | N18: =L18/L$19 -> 0.0336397
D19: 合计 | E19: =SUM(E9:E18) -> 269 | F19: =SUM(F9:F18) -> 327 | G19: =IF(F19="","",IFERROR(F19-E19,"")) -> 58 | H19: =IFERROR(G19/AVERAGE(E19:F19),"") -> 0.322147 | K19: =SUM(K9:K18) -> 269 | L19: =SUM(L9:L18) -> 327

Sheet 雷达图
B1: 自动统计，无需修改。
B2: =INDEX(表格!$J$9:$J$18,MATCH(雷达图!B3,表格!$L$9:$L$18,0)) -> 区域2 | C2: =INDEX(表格!$J$9:$J$18,MATCH(雷达图!C3,表格!$L$9:$L$18,0)) -> 区域8 | D2: =INDEX(表格!$J$9:$J$18,MATCH(雷达图!D3,表格!$L$9:$L$18,0)) -> 区域3 | E2: =INDEX(表格!$J$9:$J$18,MATCH(雷达图!E3,表格!$L$9:$L$18,0)) -> 区域9 | F2: =INDEX(表格!$J$9:$J$18,MATCH(雷达图!F3,表格!$L$9:$L$18,0)) -> 区域6 | G2: =INDEX(表格!$J$9:$J$18,MATCH(雷达图!G3,表格!$L$9:$L$18,0)) -> 区域5 | H2: =INDEX(表格!$J$9:$J$18,MATCH(雷达图!H3,表格!$L$9:$L$18,0)) -> 区域1 | I2: =INDEX(表格!$J$9:$J$18,MATCH(雷达图!I3,表格!$L$9:$L$18,0)) -> 区域10 | ... K2: =INDEX(表格!$J$9:$J$18,MATCH(雷达图!K3,表格!$L$9:$L$18,0)) -> 区域7
B3: =表格!$L$9 -> 47 | C3: =表格!$L$10 -> 45 | D3: =表格!$L$11 -> 44 | E3: =表格!L12 -> 41 | F3: =表格!L13 -> 37 | G3: =表格!L14 -> 29 | H3: =表格!L15 -> 28 | I3: =表格!L16 -> 26 | J3: =表格!L17 -> 19 | K3: =表格!L18 -> 11
B4: =B3/SUM($B$3:$K$3) -> 0.015289 | C4: =C3/SUM($B$3:$K$3) -> 0.908258 | D4: =D3/SUM($B$3:$K$3) -> 0.354739 | E4: =E3/SUM($B$3:$K$3) -> 0.12538226 | F4: =F3/SUM($B$3:$K$3) -> 0.180122 | G4: =G3/SUM($B$3:$K$3) -> 0.088685 | H4: =H3/SUM($B$3:$K$3) -> 0.085626911 | I4: =I3/SUM($B$3:$K$3) -> 0.079510703 | ... K4: =K3/SUM($B$3:$K$3) -> 0.0336397
B5: =B2 -> 区域2 | C5: =C2 -> 区域8 | D5: =D2 -> 区域3 | E5: =E2 -> 区域9 | F5: =F2 -> 区域6 | G5: =G2 -> 区域5 | H5: =H2 -> 区域1 | I5: =I2 -> 区域10 | ... K5: =K2 -> 区域7
B6: =B3 -> 47
B7: =B6 -> 47 | C7: =C3 -> 45
C8: =C7 -> 45 | D8: =D3 -> 44
D9: =D8 -> 44 | E9: =E3 -> 41
E10: =E9 -> 41 | F10: =F3 -> 37
F11: =F10 -> 37 | G11: =G3 -> 29
G12: =G11 -> 29 | H12: =H3 -> 28
H13: =H12 -> 28 | I13: =I3 -> 26
I14: =I13 -> 26 | J14: =J3 -> 19
J15: =J14 -> 19 | K15: =K3 -> 11
K16: =K15 -> 11

Sheet 说明 
