Workbook

Sheet 评估说明

Sheet 部门初评
C1: 部门：___________ | D1: 部门审核人：____________ | EB1: =COUNTIF(DV8:EB8,">0") -> 0 | EV1: =COUNTIF(D8:EV8,">0") -> 0
C2: 部门初评人：__________ | EI2: =COUNTIF(EC8:EI8,">0") -> 0 | EK2: =COUNTIF(EJ8:EK8,">0") -> 0 | EN2: =COUNTIF(EL8:EN8,">0") -> 0
D3: 员工姓名 | E3: 员工姓名 | F3: 员工姓名 | G3: 员工姓名 | H3: 员工姓名 | I3: 员工姓名 | J3: 员工姓名 | K3: 员工姓名 | L3: 员工姓名 | M3: 员工姓名 | N3: 员工姓名 | O3: 员工姓名 | P3: 员工姓名 | Q3: 员工姓名 | R3: 员工姓名 | S3: 员工姓名 | T3: 员工姓名 | U3: 员工姓名 | V3: 员工姓名 | W3: 员工姓名 | X3: 员工姓名 | Y3: 员工姓名 | Z3: 员工姓名 | AA3: 员工姓名 | AB3: 员工姓名 | AC3: 员工姓名 | AD3: 员工姓名 | AE3: 员工姓名 | AF3: 员工姓名 | AG3: 员工姓名 | AH3: 员工姓名 | AI3: 员工姓名 | AJ3: 员工姓名 | AK3: 员工姓名 | AL3: 员工姓名 | AM3: 员工姓名 | AN3: 员工姓名 | AO3: 员工姓名 | AP3: 员工姓名 | AQ3: 员工姓名 | AR3: 员工姓名 | AS3: 员工姓名 | AT3: 员工姓名 | AU3: 员工姓名 | AV3: 员工姓名 | AW3: 员工姓名 | AX3: 员工姓名 | AY3: 员工姓名 | AZ3: 员工姓名 | BA3: 员工姓名 | BB3: 员工姓名 | BC3: 员工姓名 | BD3: 员工姓名 | BE3: 员工姓名 | BF3: 员工姓名 | BG3: 员工姓名 | BH3: 员工姓名 | BI3: 员工姓名 | BJ3: 员工姓名 | BK3: 员工姓名 | BL3: 员工姓名 | BM3: 员工姓名 | BN3: 员工姓名 | BO3: 员工姓名 | BP3: 员工姓名 | BQ3: 员工姓名 | BR3: 员工姓名 | BS3: 员工姓名 | BT3: 员工姓名 | BU3: 员工姓名 | BV3: 员工姓名 | BW3: 员工姓名 | BX3: 员工姓名 | BY3: 员工姓名 | BZ3: 员工姓名 | CA3: 员工姓名 | CB3: 员工姓名 | CC3: 员工姓名 | CD3: 员工姓名 | CE3: 员工姓名 | CF3: 员工姓名 | CG3: 员工姓名 | CH3: 员工姓名 | CI3: 员工姓名 | CJ3: 员工姓名 | CK3: 员工姓名 | CL3: 员工姓名 | CM3: 员工姓名 | CN3: 员工姓名 | CO3: 员工姓名 | CP3: 员工姓名 | CQ3: 员工姓名 | CR3: 员工姓名 | CS3: 员工姓名 | CT3: 员工姓名 | CU3: 员工姓名 | CV3: 员工姓名 | CW3: 员工姓名 | CX3: 员工姓名 | CY3: 员工姓名 | CZ3: 员工姓名 | DA3: 员工姓名 | DB3: 员工姓名 | DC3: 员工姓名 | DD3: 员工姓名 | DE3: 员工姓名 | DF3: 员工姓名 | DG3: 员工姓名 | DH3: 员工姓名 | DI3: 员工姓名 | DJ3: 员工姓名 | DK3: 员工姓名 | DL3: 员工姓名 | DM3: 员工姓名 | DN3: 员工姓名 | DO3: 员工姓名 | DP3: 员工姓名 | DQ3: 员工姓名 | DR3: 员工姓名 | DS3: 员工姓名 | DT3: 员工姓名 | DU3: 员工姓名 | DV3: 员工姓名 | DW3: 员工姓名 | DX3: 员工姓名 | DY3: 员工姓名 | DZ3: 员工姓名 | EA3: 员工姓名 | EB3: 员工姓名 | EC3: 员工姓名 | ED3: 员工姓名 | EE3: 员工姓名 | EF3: 员工姓名 | EG3: 员工姓名 | EH3: 员工姓名 | EI3: 员工姓名 | EJ3: 员工姓名 | EK3: 员工姓名 | EL3: 员工姓名 | EM3: 员工姓名 | EN3: 员工姓名 | EO3: 员工姓名 | EP3: 员工姓名 | EQ3: 员工姓名 | ER3: 员工姓名 | ES3: 员工姓名 | ET3: 员工姓名 | EU3: 员工姓名 | EV3: 员工姓名 | EW3: 员工姓名 | EX3: 员工姓名 | EY3: 员工姓名 | EZ3: 员工姓名 | FA3: 员工姓名 | FB3: 员工姓名 | FC3: 员工姓名 | FD3: 员工姓名 | FE3: 员工姓名 | FF3: 员工姓名 | FG3: 员工姓名 | FH3: 员工姓名 | FI3: 员工姓名 | FJ3: 员工姓名 | FK3: 员工姓名 | FL3: 员工姓名 | FM3: 员工姓名 | FN3: 员工姓名 | FO3: 员工姓名 | FP3: 员工姓名 | FQ3: 员工姓名 | FR3: 员工姓名 | FS3: 员工姓名 | FT3: 员工姓名 | FU3: 员工姓名 | FV3: 员工姓名 | FW3: 员工姓名 | FX3: 员工姓名 | FY3: 员工姓名 | FZ3: 员工姓名 | GA3: 员工姓名 | GB3: 员工姓名 | GC3: 员工姓名 | GD3: 员工姓名 | GF3: 员工姓名 | GG3: 员工姓名 | GH3: 员工姓名 | GI3: 员工姓名 | GJ3: 员工姓名 | GK3: 员工姓名 | GL3: 员工姓名 | GM3: 员工姓名 | GN3: 员工姓名 | GO3: 员工姓名 | GP3: 员工姓名 | GQ3: 员工姓名 | GR3: 员工姓名 | GS3: 员工姓名 | GT3: 员工姓名 | GU3: 员工姓名 | GV3: 员工姓名 | GW3: 员工姓名 | GX3: 员工姓名 | GY3: 员工姓名 | GZ3: 员工姓名 | HA3: 员工姓名 | HB3: 员工姓名 | HC3: 员工姓名 | HD3: 员工姓名 | HE3: 员工姓名 | HF3: 员工姓名 | HG3: 员工姓名 | HH3: 员工姓名 | HI3: 员工姓名 | HJ3: 员工姓名 | HK3: 员工姓名 | HL3: 员工姓名 | HM3: 员工姓名 | HN3: 员工姓名 | HO3: 员工姓名 | HP3: 员工姓名 | HQ3: 员工姓名 | HR3: 员工姓名
C4: 全员核心胜任能力
C5: 说明：分值是根据表现下列行为的频率来确定的： 1=很少表现， 2=有时表现，3=经常表现，4=总是表现
A7: A | B7: 1 | C7: 了解谁是本职的客户，包括公司外部的 (代理商和终端客户) 和 公司内部的
A8: A | B8: 3 | C8: 将个人联系方式留给客户
A9: A | B9: 5 | C9: 及时、快速响应客户的问题，哪怕是暂时没有合理的解决方案，并且不局限在8小时的工作时间内
A10: A1 | B10: 6 | C10: 制定流程和处理问题时，首先考虑如何让客户更方便而非自己方便
A11: A1 | B11: 1 | C11: 以各种沟通方式积极影响并促进他人的客户服务意识
A12: A | B12: 7 | C12: 在本职范围内，全力满足客户需求，同时关注客户的额外要求并能及时反馈给上级主管
A13: A1 | B13: 4 | C13: 制定有效的机制/流程，以达到快速、准确地收集、传递(内外部)客户对某企业的产品和服务等方面的意见
A14: A1 | B14: 5 | C14: 将(内外部)客户的满意程度列入自己/部门的考核标准中去
A15: A1 | B15: 7 | C15: 善于平衡多种客户需求和公司主要经营战略目标之间的关系，能够从市场环境、竞争对手、赢利模式等经营角度，把握住关键客户的关键需求以及向客户提供服务的时机和投入成本
A16: A | B16: 2 | C16: 在与客户交往时，注重以礼待人的细节
A17: A1 | B17: 2 | C17: 用各种方式(调查，数据统计，客户拜访等)主动了解客户的需求，尤其是潜在的需求
A18: A1 | B18: 3 | C18: 自己解决不了或非本岗位职责的问题，会主动为客户寻求更有效的资源，直至问题解决
... A69: E | B69: 2 | C69: 不轻易承诺，但对承诺过的事情，保证兑现
C70: 专业序列通用能力
C71: 说明：分值是根据表现下列行为的频率来确定的： 1=很少表现， 2=有时表现，3=经常表现，4=总是表现
A73: T1 | B73: 1 | C73: 1）喜欢与他人沟通，即使面对不熟悉的场合或相当多的听众，仍不畏惧当众沟通的场面，并表现出足够的自信
C74: 2）能够从客户的支离、零散的信息中总结整理出客户真正和可能的潜在需求
C75: 3）根据本部门/本人的业绩目标，制订日、周、月工作计划来实施具体的工作目标
C76: 4）耐心倾听他人/客户的需求，积极了解其它部门/客户公司业务流程的操作以及操作过程中的问题
C77: 5）从多角度思考问题，能在不同事件中找到相关的联系或是确定没有关联性
C78: 6）在处理多重任务时，能分清主次，有效利用自己和他人的时间
A79: T2 | B79: 1 | C79: 7）记录、复述并确认自己与他人/客户沟通的重要信息
A80: T1 | B80: 3 | C80: 8）能够将现行的业务步骤流程化，出现问题时，能快速找到造成问题的主要原因和突破口
A81: T2 | B81: 5 | C81: 9）对已明确承诺的内、外部客户需求和工作目标能积极寻找、协调内外部资源予以落实，并将落实结果及时向相关客户通报
A82: T3 | B82: 4 | C82: 10）善于运用书面表达方式，为他人/客户提供观点明确、思路清楚、简捷的呈现材料，如：产品/方案介绍等
A83: T1 | B83: 6 | C83: 11）学会“用数据说话”，善于用与本岗位相关的关键绩效指标（如“销量、销售额、回款率等）解释问题，并注意以文档形式进行历史数据的积累
A84: T2 | B84: 3 | C84: 12）对已达成一直的沟通或协议，要列出时间推进表，有计划地监控客户方或公司内部协同部门落实
A85: T3 | B85: 2 | C85: 13）作为公司代表，能够用口头或肢体语言准确地向他人/客户传递自己的意向及意向产生的背景和原因
A86: T2 | B86: 2 | C86: 14）遇到问题，不是一味蛮干，而是独立或与其他成员仔细寻找问题的根源，再解决问题
A87: T2 | B87: 4 | C87: 15）对未达成一致的沟通结果，按照“公司沟通四步骤”及时反馈公司内相关部门/人员协商解决办法，同时将结果再次与客户通报
A88: T1 | B88: 7 | C88: 16）在双方意见不一致时，能够心平气和地了解双方的不同意见及其产生的原因，积极寻求达成一致
A89: T3 | B89: 1 | C89: 17）在遇到问题时，能够参考（自己或他人）以前的工作经验，加以分析后应用
A90: T1 | B90: 5 | C90: 18）做工作规划和准备谈判方案时，考虑至少一种（以上）备用方案
A91: T3 | B91: 3 | C91: 19）耐心听取代理商的质询和投诉，并及时作出判断，给出反馈意见和处理方案
C92: 20）根据已找到的“关键绩效指标（KPI）”，制定出相应的实施推进计划和提高完善措施
...

Sheet 评估结果
A1: 部门：___________ | E1: 部门审核人：____________
A2: 部门初评人：__________
A4: 全员核心能力 | C4: Total | D4: =部门初评!D3 -> 员工姓名 | E4: =部门初评!E3 -> 员工姓名 | F4: =部门初评!F3 -> 员工姓名 | G4: =部门初评!G3 -> 员工姓名 | H4: =部门初评!H3 -> 员工姓名 | I4: =部门初评!I3 -> 员工姓名 | J4: =部门初评!J3 -> 员工姓名 | K4: =部门初评!K3 -> 员工姓名 | ... EV4: =部门初评!EV3 -> 员工姓名
A5: 服务客户 | B5: 单项平均分 | C5: =SUM(D5:AG5)/COUNTIF(D5:AG5,">0") -> #VALUE! | D5: =(D6+D7)/2 -> #VALUE! | E5: =(E6+E7)/2 -> 0 | F5: =(F6+F7)/2 -> #VALUE! | G5: =(G6+G7)/2 -> 0 | H5: =(H6+H7)/2 -> 0 | I5: =(I6+I7)/2 -> 0 | J5: =(J6+J7)/2 -> 0 | K5: =(K6+K7)/2 -> 0 | ... EV5: =(EV6+EV7)/2 -> 0
B6: 基础层 | C6: =SUM(D6:AG6)/COUNTIF(D6:AG6,">0") -> #VALUE! | D6: =(部门初评!D7+部门初评!D8+部门初评!D9+部门初评!D12+部门初评!D16+部门初评!D19+部门初评!D20)*2/7 -> #VALUE! | E6: =(部门初评!E7+部门初评!E8+部门初评!E9+部门初评!E12+部门初评!E16+部门初评!E19+部门初评!E20)*2/7 -> 0 | F6: =(部门初评!F7+部门初评!F8+部门初评!F9+部门初评!F12+部门初评!F16+部门初评!F19+部门初评!F20)*2/7 -> #VALUE! | G6: =(部门初评!G7+部门初评!G8+部门初评!G9+部门初评!G12+部门初评!G16+部门初评!G19+部门初评!G20)*2/7 -> 0 | H6: =(部门初评!H7+部门初评!H8+部门初评!H9+部门初评!H12+部门初评!H16+部门初评!H19+部门初评!H20)*2/7 -> 0 | I6: =(部门初评!I7+部门初评!I8+部门初评!I9+部门初评!I12+部门初评!I16+部门初评!I19+部门初评!I20)*2/7 -> 0 | J6: =(部门初评!J7+部门初评!J8+部门初评!J9+部门初评!J12+部门初评!J16+部门初评!J19+部门初评!J20)*2/7 -> 0 | K6: =(部门初评!K7+部门初评!K8+部门初评!K9+部门初评!K12+部门初评!K16+部门初评!K19+部门初评!K20)*2/7 -> 0 | ... EV6: =(部门初评!EV7+部门初评!EV8+部门初评!EV9+部门初评!EV12+部门初评!EV16+部门初评!EV19+部门初评!EV20)*2/7 -> 0
B7: 提高层 | C7: =SUM(D7:AG7)/COUNTIF(D7:AG7,">0") -> #DIV/0! | D7: =(部门初评!D10+部门初评!D11+部门初评!D13+部门初评!D14+部门初评!D15+部门初评!D17+部门初评!D18)/7*2*2 -> 0 | E7: =(部门初评!E10+部门初评!E11+部门初评!E13+部门初评!E14+部门初评!E15+部门初评!E17+部门初评!E18)/7*2*2 -> 0 | F7: =(部门初评!F10+部门初评!F11+部门初评!F13+部门初评!F14+部门初评!F15+部门初评!F17+部门初评!F18)/7*2*2 -> 0 | G7: =(部门初评!G10+部门初评!G11+部门初评!G13+部门初评!G14+部门初评!G15+部门初评!G17+部门初评!G18)/7*2*2 -> 0 | H7: =(部门初评!H10+部门初评!H11+部门初评!H13+部门初评!H14+部门初评!H15+部门初评!H17+部门初评!H18)/7*2*2 -> 0 | I7: =(部门初评!I10+部门初评!I11+部门初评!I13+部门初评!I14+部门初评!I15+部门初评!I17+部门初评!I18)/7*2*2 -> 0 | J7: =(部门初评!J10+部门初评!J11+部门初评!J13+部门初评!J14+部门初评!J15+部门初评!J17+部门初评!J18)/7*2*2 -> 0 | K7: =(部门初评!K10+部门初评!K11+部门初评!K13+部门初评!K14+部门初评!K15+部门初评!K17+部门初评!K18)/7*2*2 -> 0 | ... EV7: =(部门初评!EV10+部门初评!EV11+部门初评!EV13+部门初评!EV14+部门初评!EV15+部门初评!EV17+部门初评!EV18)/7*2*2 -> 0
A8: 求实精准 | B8: 单项平均分 | C8: =SUM(D8:AG8)/COUNTIF(D8:AG8,">0") -> #VALUE! | D8: =(D9+D10)/2 -> #VALUE! | E8: =(E9+E10)/2 -> 0 | F8: =(F9+F10)/2 -> 0 | G8: =(G9+G10)/2 -> 0 | H8: =(H9+H10)/2 -> 0 | I8: =(I9+I10)/2 -> 0 | J8: =(J9+J10)/2 -> 0 | K8: =(K9+K10)/2 -> 0 | ... EV8: =(EV9+EV10)/2 -> 0
B9: 基础层 | C9: =SUM(D9:AG9)/COUNTIF(D9:AG9,">0") -> #DIV/0! | D9: =(部门初评!D21+部门初评!D23+部门初评!D25+部门初评!D28+部门初评!D29+部门初评!D30)*2/6 -> 0 | E9: =(部门初评!E21+部门初评!E23+部门初评!E25+部门初评!E28+部门初评!E29+部门初评!E30)*2/6 -> 0 | F9: =(部门初评!F21+部门初评!F23+部门初评!F25+部门初评!F28+部门初评!F29+部门初评!F30)*2/6 -> 0 | G9: =(部门初评!G21+部门初评!G23+部门初评!G25+部门初评!G28+部门初评!G29+部门初评!G30)*2/6 -> 0 | H9: =(部门初评!H21+部门初评!H23+部门初评!H25+部门初评!H28+部门初评!H29+部门初评!H30)*2/6 -> 0 | I9: =(部门初评!I21+部门初评!I23+部门初评!I25+部门初评!I28+部门初评!I29+部门初评!I30)*2/6 -> 0 | J9: =(部门初评!J21+部门初评!J23+部门初评!J25+部门初评!J28+部门初评!J29+部门初评!J30)*2/6 -> 0 | K9: =(部门初评!K21+部门初评!K23+部门初评!K25+部门初评!K28+部门初评!K29+部门初评!K30)*2/6 -> 0 | ... EV9: =(部门初评!EV21+部门初评!EV23+部门初评!EV25+部门初评!EV28+部门初评!EV29+部门初评!EV30)*2/6 -> 0
B10: 提高层 | C10: =SUM(D10:AG10)/COUNTIF(D10:AG10,">0") -> #VALUE! | D10: =(部门初评!D22+部门初评!D24+部门初评!D26+部门初评!D27+部门初评!D31+部门初评!D32)/6*2*2 -> #VALUE! | E10: =(部门初评!E22+部门初评!E24+部门初评!E26+部门初评!E27+部门初评!E31+部门初评!E32)/6*2*2 -> 0 | F10: =(部门初评!F22+部门初评!F24+部门初评!F26+部门初评!F27+部门初评!F31+部门初评!F32)/6*2*2 -> 0 | G10: =(部门初评!G22+部门初评!G24+部门初评!G26+部门初评!G27+部门初评!G31+部门初评!G32)/6*2*2 -> 0 | H10: =(部门初评!H22+部门初评!H24+部门初评!H26+部门初评!H27+部门初评!H31+部门初评!H32)/6*2*2 -> 0 | I10: =(部门初评!I22+部门初评!I24+部门初评!I26+部门初评!I27+部门初评!I31+部门初评!I32)/6*2*2 -> 0 | J10: =(部门初评!J22+部门初评!J24+部门初评!J26+部门初评!J27+部门初评!J31+部门初评!J32)/6*2*2 -> 0 | K10: =(部门初评!K22+部门初评!K24+部门初评!K26+部门初评!K27+部门初评!K31+部门初评!K32)/6*2*2 -> 0 | ... EV10: =(部门初评!EV22+部门初评!EV24+部门初评!EV26+部门初评!EV27+部门初评!EV31+部门初评!EV32)/6*2*2 -> 0
A11: 创业创新 | B11: 单项平均分 | C11: =SUM(D11:AG11)/COUNTIF(D11:AG11,">0") -> #DIV/0! | D11: =(D12+D13)/2 -> 0 | E11: =(E12+E13)/2 -> 0 | F11: =(F12+F13)/2 -> 0 | G11: =(G12+G13)/2 -> 0 | H11: =(H12+H13)/2 -> 0 | I11: =(I12+I13)/2 -> 0 | J11: =(J12+J13)/2 -> 0 | K11: =(K12+K13)/2 -> 0 | ... EV11: =(EV12+EV13)/2 -> 0
B12: 基础层 | C12: =SUM(D12:AG12)/COUNTIF(D12:AG12,">0") -> #DIV/0! | D12: =(部门初评!D34+部门初评!D37+部门初评!D39+部门初评!D41+部门初评!D44+部门初评!D45+部门初评!D46)*2/7 -> 0 | E12: =(部门初评!E34+部门初评!E37+部门初评!E39+部门初评!E41+部门初评!E44+部门初评!E45+部门初评!E46)*2/7 -> 0 | F12: =(部门初评!F34+部门初评!F37+部门初评!F39+部门初评!F41+部门初评!F44+部门初评!F45+部门初评!F46)*2/7 -> 0 | G12: =(部门初评!G34+部门初评!G37+部门初评!G39+部门初评!G41+部门初评!G44+部门初评!G45+部门初评!G46)*2/7 -> 0 | H12: =(部门初评!H34+部门初评!H37+部门初评!H39+部门初评!H41+部门初评!H44+部门初评!H45+部门初评!H46)*2/7 -> 0 | I12: =(部门初评!I34+部门初评!I37+部门初评!I39+部门初评!I41+部门初评!I44+部门初评!I45+部门初评!I46)*2/7 -> 0 | J12: =(部门初评!J34+部门初评!J37+部门初评!J39+部门初评!J41+部门初评!J44+部门初评!J45+部门初评!J46)*2/7 -> 0 | K12: =(部门初评!K34+部门初评!K37+部门初评!K39+部门初评!K41+部门初评!K44+部门初评!K45+部门初评!K46)*2/7 -> 0 | ... EV12: =(部门初评!EV34+部门初评!EV37+部门初评!EV39+部门初评!EV41+部门初评!EV44+部门初评!EV45+部门初评!EV46)*2/7 -> 0
B13: 提高层 | C13: =SUM(D13:AG13)/COUNTIF(D13:AG13,">0") -> #DIV/0! | D13: =(部门初评!D35+部门初评!D36+部门初评!D38+部门初评!D40+部门初评!D42+部门初评!D43+部门初评!D33)/7*2*2 -> 0 | E13: =(部门初评!E35+部门初评!E36+部门初评!E38+部门初评!E40+部门初评!E42+部门初评!E43+部门初评!E33)/7*2*2 -> 0 | F13: =(部门初评!F35+部门初评!F36+部门初评!F38+部门初评!F40+部门初评!F42+部门初评!F43+部门初评!F33)/7*2*2 -> 0 | G13: =(部门初评!G35+部门初评!G36+部门初评!G38+部门初评!G40+部门初评!G42+部门初评!G43+部门初评!G33)/7*2*2 -> 0 | H13: =(部门初评!H35+部门初评!H36+部门初评!H38+部门初评!H40+部门初评!H42+部门初评!H43+部门初评!H33)/7*2*2 -> 0 | I13: =(部门初评!I35+部门初评!I36+部门初评!I38+部门初评!I40+部门初评!I42+部门初评!I43+部门初评!I33)/7*2*2 -> 0 | J13: =(部门初评!J35+部门初评!J36+部门初评!J38+部门初评!J40+部门初评!J42+部门初评!J43+部门初评!J33)/7*2*2 -> 0 | K13: =(部门初评!K35+部门初评!K36+部门初评!K38+部门初评!K40+部门初评!K42+部门初评!K43+部门初评!K33)/7*2*2 -> 0 | ... EV13: =(部门初评!EV35+部门初评!EV36+部门初评!EV38+部门初评!EV40+部门初评!EV42+部门初评!EV43+部门初评!EV33)/7*2*2 -> 0
A14: 合作共享 | B14: 单项平均分 | C14: =SUM(D14:AG14)/COUNTIF(D14:AG14,">0") -> #DIV/0! | D14: =(D15+D16)/2 -> 0 | E14: =(E15+E16)/2 -> 0 | F14: =(F15+F16)/2 -> 0 | G14: =(G15+G16)/2 -> 0 | H14: =(H15+H16)/2 -> 0 | I14: =(I15+I16)/2 -> 0 | J14: =(J15+J16)/2 -> 0 | K14: =(K15+K16)/2 -> 0 | ... EV14: =(EV15+EV16)/2 -> 0
B15: 基础层 | C15: =SUM(D15:AG15)/COUNTIF(D15:AG15,">0") -> #DIV/0! | D15: =(部门初评!D47+部门初评!D48+部门初评!D50+部门初评!D52+部门初评!D56+部门初评!D58+部门初评!D59)*2/7 -> 0 | E15: =(部门初评!E47+部门初评!E48+部门初评!E50+部门初评!E52+部门初评!E56+部门初评!E58+部门初评!E59)*2/7 -> 0 | F15: =(部门初评!F47+部门初评!F48+部门初评!F50+部门初评!F52+部门初评!F56+部门初评!F58+部门初评!F59)*2/7 -> 0 | G15: =(部门初评!G47+部门初评!G48+部门初评!G50+部门初评!G52+部门初评!G56+部门初评!G58+部门初评!G59)*2/7 -> 0 | H15: =(部门初评!H47+部门初评!H48+部门初评!H50+部门初评!H52+部门初评!H56+部门初评!H58+部门初评!H59)*2/7 -> 0 | I15: =(部门初评!I47+部门初评!I48+部门初评!I50+部门初评!I52+部门初评!I56+部门初评!I58+部门初评!I59)*2/7 -> 0 | J15: =(部门初评!J47+部门初评!J48+部门初评!J50+部门初评!J52+部门初评!J56+部门初评!J58+部门初评!J59)*2/7 -> 0 | K15: =(部门初评!K47+部门初评!K48+部门初评!K50+部门初评!K52+部门初评!K56+部门初评!K58+部门初评!K59)*2/7 -> 0 | ... EV15: =(部门初评!EV47+部门初评!EV48+部门初评!EV50+部门初评!EV52+部门初评!EV56+部门初评!EV58+部门初评!EV59)*2/7 -> 0
B16: 提高层 | C16: =SUM(D16:AG16)/COUNTIF(D16:AG16,">0") -> #DIV/0! | D16: =(部门初评!D49+部门初评!D51+部门初评!D53+部门初评!D54+部门初评!D55+部门初评!D57)/6*2*2 -> 0 | E16: =(部门初评!E49+部门初评!E51+部门初评!E53+部门初评!E54+部门初评!E55+部门初评!E57)/6*2*2 -> 0 | F16: =(部门初评!F49+部门初评!F51+部门初评!F53+部门初评!F54+部门初评!F55+部门初评!F57)/6*2*2 -> 0 | G16: =(部门初评!G49+部门初评!G51+部门初评!G53+部门初评!G54+部门初评!G55+部门初评!G57)/6*2*2 -> 0 | H16: =(部门初评!H49+部门初评!H51+部门初评!H53+部门初评!H54+部门初评!H55+部门初评!H57)/6*2*2 -> 0 | I16: =(部门初评!I49+部门初评!I51+部门初评!I53+部门初评!I54+部门初评!I55+部门初评!I57)/6*2*2 -> 0 | J16: =(部门初评!J49+部门初评!J51+部门初评!J53+部门初评!J54+部门初评!J55+部门初评!J57)/6*2*2 -> 0 | K16: =(部门初评!K49+部门初评!K51+部门初评!K53+部门初评!K54+部门初评!K55+部门初评!K57)/6*2*2 -> 0 | ... EV16: =(部门初评!EV49+部门初评!EV51+部门初评!EV53+部门初评!EV54+部门初评!EV55+部门初评!EV57)/6*2*2 -> 0
A17: 诚实守信 | B17: 单项平均分 | C17: =SUM(D17:EV17)/COUNTIF(D17:EV17,">0") -> #DIV/0! | D17: =(D18+D19)/2 -> 0 | E17: =(E18+E19)/2 -> 0 | F17: =(F18+F19)/2 -> 0 | G17: =(G18+G19)/2 -> 0 | H17: =(H18+H19)/2 -> 0 | I17: =(I18+I19)/2 -> 0 | J17: =(J18+J19)/2 -> 0 | K17: =(K18+K19)/2 -> 0 | ... EV17: =(EV18+EV19)/2 -> 0
B18: 基础层 | C18: =SUM(D18:EV18)/COUNTIF(D18:EV18,">0") -> #DIV/0! | D18: =(部门初评!D60+部门初评!D63+部门初评!D66+部门初评!D67+部门初评!D69)*2/5 -> 0 | E18: =(部门初评!E60+部门初评!E63+部门初评!E66+部门初评!E67+部门初评!E69)*2/5 -> 0 | F18: =(部门初评!F60+部门初评!F63+部门初评!F66+部门初评!F67+部门初评!F69)*2/5 -> 0 | G18: =(部门初评!G60+部门初评!G63+部门初评!G66+部门初评!G67+部门初评!G69)*2/5 -> 0 | H18: =(部门初评!H60+部门初评!H63+部门初评!H66+部门初评!H67+部门初评!H69)*2/5 -> 0 | I18: =(部门初评!I60+部门初评!I63+部门初评!I66+部门初评!I67+部门初评!I69)*2/5 -> 0 | J18: =(部门初评!J60+部门初评!J63+部门初评!J66+部门初评!J67+部门初评!J69)*2/5 -> 0 | K18: =(部门初评!K60+部门初评!K63+部门初评!K66+部门初评!K67+部门初评!K69)*2/5 -> 0 | ... EV18: =(部门初评!EV60+部门初评!EV63+部门初评!EV66+部门初评!EV67+部门初评!EV69)*2/5 -> 0
B19: 提高层 | C19: =SUM(D19:EV19)/COUNTIF(D19:EV19,">0") -> #DIV/0! | D19: =(部门初评!D61+部门初评!D62+部门初评!D64+部门初评!D65+部门初评!D68)/5*2*2 -> 0 | E19: =(部门初评!E61+部门初评!E62+部门初评!E64+部门初评!E65+部门初评!E68)/5*2*2 -> 0 | F19: =(部门初评!F61+部门初评!F62+部门初评!F64+部门初评!F65+部门初评!F68)/5*2*2 -> 0 | G19: =(部门初评!G61+部门初评!G62+部门初评!G64+部门初评!G65+部门初评!G68)/5*2*2 -> 0 | H19: =(部门初评!H61+部门初评!H62+部门初评!H64+部门初评!H65+部门初评!H68)/5*2*2 -> 0 | I19: =(部门初评!I61+部门初评!I62+部门初评!I64+部门初评!I65+部门初评!I68)/5*2*2 -> 0 | J19: =(部门初评!J61+部门初评!J62+部门初评!J64+部门初评!J65+部门初评!J68)/5*2*2 -> 0 | K19: =(部门初评!K61+部门初评!K62+部门初评!K64+部门初评!K65+部门初评!K68)/5*2*2 -> 0 | ... EV19: =(部门初评!EV61+部门初评!EV62+部门初评!EV64+部门初评!EV65+部门初评!EV68)/5*2*2 -> 0
A20: 总评 | B20: 单项总分 | C20: =SUM(D20:EV20)/COUNTIF(D20:EV20,">0") -> #VALUE! | D20: =(D5+D8+D11+D14+D17)/5 -> #VALUE! | E20: =(E5+E8+E11+E14+E17)/5 -> 0 | F20: =(F5+F8+F11+F14+F17)/5 -> #VALUE! | G20: =(G5+G8+G11+G14+G17)/5 -> 0 | H20: =(H5+H8+H11+H14+H17)/5 -> 0 | I20: =(I5+I8+I11+I14+I17)/5 -> 0 | J20: =(J5+J8+J11+J14+J17)/5 -> 0 | K20: =(K5+K8+K11+K14+K17)/5 -> 0 | ... EV20: =(EV5+EV8+EV11+EV14+EV17)/5 -> 0
B21: 基础层 | C21: =SUM(D21:EV21)/COUNTIF(D21:EV21,">0") -> #VALUE! | D21: =(D6+D9+D12+D15+D18)/5 -> #VALUE! | E21: =(E6+E9+E12+E15+E18)/5 -> 0 | F21: =(F6+F9+F12+F15+F18)/5 -> #VALUE! | G21: =(G6+G9+G12+G15+G18)/5 -> 0 | H21: =(H6+H9+H12+H15+H18)/5 -> 0 | I21: =(I6+I9+I12+I15+I18)/5 -> 0 | J21: =(J6+J9+J12+J15+J18)/5 -> 0 | K21: =(K6+K9+K12+K15+K18)/5 -> 0 | ... EV21: =(EV6+EV9+EV12+EV15+EV18)/5 -> 0
B22: 提高层 | C22: =SUM(D22:EV22)/COUNTIF(D22:EV22,">0") -> #VALUE! | D22: =(D7+D10+D13+D16+D19)/5 -> #VALUE! | E22: =(E7+E10+E13+E16+E19)/5 -> 0 | F22: =(F7+F10+F13+F16+F19)/5 -> 0 | G22: =(G7+G10+G13+G16+G19)/5 -> 0 | H22: =(H7+H10+H13+H16+H19)/5 -> 0 | I22: =(I7+I10+I13+I16+I19)/5 -> 0 | J22: =(J7+J10+J13+J16+J19)/5 -> 0 | K22: =(K7+K10+K13+K16+K19)/5 -> 0 | ... EV22: =(EV7+EV10+EV13+EV16+EV19)/5 -> 0
A24: 序列通用能力
A25: 沟通表达能力 | C25: =SUM(D25:EV25)/COUNTIF(D25:EV25,">0") -> #DIV/0! | D25: =(部门初评!D73+部门初评!D76+部门初评!D79+部门初评!D82+部门初评!D85+部门初评!D88+部门初评!D91+部门初评!D93)/8 -> 0 | E25: =(部门初评!E73+部门初评!E76+部门初评!E79+部门初评!E82+部门初评!E85+部门初评!E88+部门初评!E91+部门初评!E93)/8 -> 0 | F25: =(部门初评!F73+部门初评!F76+部门初评!F79+部门初评!F82+部门初评!F85+部门初评!F88+部门初评!F91+部门初评!F93)/8 -> 0 | G25: =(部门初评!G73+部门初评!G76+部门初评!G79+部门初评!G82+部门初评!G85+部门初评!G88+部门初评!G91+部门初评!G93)/8 -> 0 | H25: =(部门初评!H73+部门初评!H76+部门初评!H79+部门初评!H82+部门初评!H85+部门初评!H88+部门初评!H91+部门初评!H93)/8 -> 0 | I25: =(部门初评!I73+部门初评!I76+部门初评!I79+部门初评!I82+部门初评!I85+部门初评!I88+部门初评!I91+部门初评!I93)/8 -> 0 | J25: =(部门初评!J73+部门初评!J76+部门初评!J79+部门初评!J82+部门初评!J85+部门初评!J88+部门初评!J91+部门初评!J93)/8 -> 0 | K25: =(部门初评!K73+部门初评!K76+部门初评!K79+部门初评!K82+部门初评!K85+部门初评!K88+部门初评!K91+部门初评!K93)/8 -> 0 | ... EV25: =(部门初评!EV73+部门初评!EV76+部门初评!EV79+部门初评!EV82+部门初评!EV85+部门初评!EV88+部门初评!EV91+部门初评!EV93)/8 -> 0
A26: 逻辑分析能力 | C26: =SUM(D26:EV26)/COUNTIF(D26:EV26,">0") -> #DIV/0! | D26: =(部门初评!D74+部门初评!D77+部门初评!D80+部门初评!D83+部门初评!D86+部门初评!D89)/6 -> 0 | E26: =(部门初评!E74+部门初评!E77+部门初评!E80+部门初评!E83+部门初评!E86+部门初评!E89)/6 -> 0 | F26: =(部门初评!F74+部门初评!F77+部门初评!F80+部门初评!F83+部门初评!F86+部门初评!F89)/6 -> 0 | G26: =(部门初评!G74+部门初评!G77+部门初评!G80+部门初评!G83+部门初评!G86+部门初评!G89)/6 -> 0 | H26: =(部门初评!H74+部门初评!H77+部门初评!H80+部门初评!H83+部门初评!H86+部门初评!H89)/6 -> 0 | I26: =(部门初评!I74+部门初评!I77+部门初评!I80+部门初评!I83+部门初评!I86+部门初评!I89)/6 -> 0 | J26: =(部门初评!J74+部门初评!J77+部门初评!J80+部门初评!J83+部门初评!J86+部门初评!J89)/6 -> 0 | K26: =(部门初评!K74+部门初评!K77+部门初评!K80+部门初评!K83+部门初评!K86+部门初评!K89)/6 -> 0 | ... EV26: =(部门初评!EV74+部门初评!EV77+部门初评!EV80+部门初评!EV83+部门初评!EV86+部门初评!EV89)/6 -> 0
A27: 协调推进能力 | C27: =SUM(D27:EV27)/COUNTIF(D27:EV27,">0") -> #DIV/0! | D27: =(部门初评!D75+部门初评!D78+部门初评!D81+部门初评!D84+部门初评!D87+部门初评!D90+部门初评!D92)/7 -> 0 | E27: =(部门初评!E75+部门初评!E78+部门初评!E81+部门初评!E84+部门初评!E87+部门初评!E90+部门初评!E92)/7 -> 0 | F27: =(部门初评!F75+部门初评!F78+部门初评!F81+部门初评!F84+部门初评!F87+部门初评!F90+部门初评!F92)/7 -> 0 | G27: =(部门初评!G75+部门初评!G78+部门初评!G81+部门初评!G84+部门初评!G87+部门初评!G90+部门初评!G92)/7 -> 0 | H27: =(部门初评!H75+部门初评!H78+部门初评!H81+部门初评!H84+部门初评!H87+部门初评!H90+部门初评!H92)/7 -> 0 | I27: =(部门初评!I75+部门初评!I78+部门初评!I81+部门初评!I84+部门初评!I87+部门初评!I90+部门初评!I92)/7 -> 0 | J27: =(部门初评!J75+部门初评!J78+部门初评!J81+部门初评!J84+部门初评!J87+部门初评!J90+部门初评!J92)/7 -> 0 | K27: =(部门初评!K75+部门初评!K78+部门初评!K81+部门初评!K84+部门初评!K87+部门初评!K90+部门初评!K92)/7 -> 0 | ... EV27: =(部门初评!EV75+部门初评!EV78+部门初评!EV81+部门初评!EV84+部门初评!EV87+部门初评!EV90+部门初评!EV92)/7 -> 0
A28: 总评 | C28: =SUM(D28:EV28)/COUNTIF(D28:EV28,">0") -> #DIV/0! | D28: =D25+D26+D27 -> 0 | E28: =E25+E26+E27 -> 0 | F28: =F25+F26+F27 -> 0 | G28: =G25+G26+G27 -> 0 | H28: =H25+H26+H27 -> 0 | I28: =I25+I26+I27 -> 0 | J28: =J25+J26+J27 -> 0 | K28: =K25+K26+K27 -> 0 | ... EV28: =EV25+EV26+EV27 -> 0
A30: 专业技术能力
A31: 市场信息分析能力 | C31: =SUM(D31:EV31)/COUNTIF(D31:EV31,">0") -> #DIV/0! | D31: =部门初评!D95 -> 0 | E31: =部门初评!E95 -> 0 | F31: =部门初评!F95 -> 0 | G31: =部门初评!G95 -> 0 | H31: =部门初评!H95 -> 0 | I31: =部门初评!I95 -> 0 | J31: =部门初评!J95 -> 0 | K31: =部门初评!K95 -> 0 | ... EV31: =部门初评!EV95 -> 0
A32: 产品技术知识能力 | C32: =SUM(D32:EV32)/COUNTIF(D32:EV32,">0") -> #DIV/0! | D32: =部门初评!D96 -> 0 | E32: =部门初评!E96 -> 0 | F32: =部门初评!F96 -> 0 | G32: =部门初评!G96 -> 0 | H32: =部门初评!H96 -> 0 | I32: =部门初评!I96 -> 0 | J32: =部门初评!J96 -> 0 | K32: =部门初评!K96 -> 0 | ... EV32: =部门初评!EV96 -> 0
A33: 渠道规划建设能力 | C33: =SUM(D33:EV33)/COUNTIF(D33:EV33,">0") -> #DIV/0! | D33: =部门初评!D97 -> 0 | E33: =部门初评!E97 -> 0 | F33: =部门初评!F97 -> 0 | G33: =部门初评!G97 -> 0 | H33: =部门初评!H97 -> 0 | I33: =部门初评!I97 -> 0 | J33: =部门初评!J97 -> 0 | K33: =部门初评!K97 -> 0 | ... EV33: =部门初评!EV97 -> 0
A34: 渠道管理支持能力 | C34: =SUM(D34:EV34)/COUNTIF(D34:EV34,">0") -> #DIV/0! | D34: =部门初评!D98 -> 0 | E34: =部门初评!E98 -> 0 | F34: =部门初评!F98 -> 0 | G34: =部门初评!G98 -> 0 | H34: =部门初评!H98 -> 0 | I34: =部门初评!I98 -> 0 | J34: =部门初评!J98 -> 0 | K34: =部门初评!K98 -> 0 | ... EV34: =部门初评!EV98 -> 0
A35: 营销策划实施能力 | C35: =SUM(D35:EV35)/COUNTIF(D35:EV35,">0") -> #DIV/0! | D35: =部门初评!D99 -> 0 | E35: =部门初评!E99 -> 0 | F35: =部门初评!F99 -> 0 | G35: =部门初评!G99 -> 0 | H35: =部门初评!H99 -> 0 | I35: =部门初评!I99 -> 0 | J35: =部门初评!J99 -> 0 | K35: =部门初评!K99 -> 0 | ... EV35: =部门初评!EV99 -> 0
A36: 总评 | C36: =SUM(D36:EV36)/COUNTIF(D36:EV36,">0") -> #DIV/0! | D36: =D31*0.1+D32*0.1+D33*0.15+D34*0.15+D35*10% -> 0 | E36: =E31*0.1+E32*0.1+E33*0.15+E34*0.15+E35*10% -> 0 | F36: =F31*0.1+F32*0.1+F33*0.15+F34*0.15+F35*10% -> 0 | G36: =G31*0.1+G32*0.1+G33*0.15+G34*0.15+G35*10% -> 0 | H36: =H31*0.1+H32*0.1+H33*0.15+H34*0.15+H35*10% -> 0 | I36: =I31*0.1+I32*0.1+I33*0.15+I34*0.15+I35*10% -> 0 | J36: =J31*0.1+J32*0.1+J33*0.15+J34*0.15+J35*10% -> 0 | K36: =K31*0.1+K32*0.1+K33*0.15+K34*0.15+K35*10% -> 0 | ... EV36: =EV31*0.1+EV32*0.1+EV33*0.15+EV34*0.15+EV35*10% -> 0
A38: 合计总评 | C38: =SUM(D38:EV38)/COUNTIF(D38:EV38,">0") -> #VALUE! | D38: =D20*0.2+D28*0.2+D36 -> #VALUE! | E38: =E20*0.2+E28*0.2+E36 -> 0 | F38: =F20*0.2+F28*0.2+F36 -> #VALUE! | G38: =G20*0.2+G28*0.2+G36 -> 0 | H38: =H20*0.2+H28*0.2+H36 -> 0 | I38: =I20*0.2+I28*0.2+I36 -> 0 | J38: =J20*0.2+J28*0.2+J36 -> 0 | K38: =K20*0.2+K28*0.2+K36 -> 0 | ... EV38: =EV20*0.2+EV28*0.2+EV36 -> 0
